BEGIN:VCALENDAR
VERSION:2.0
PRODID:-//Garage Kitchen + Bar | San Diego Bar - ECPv6.15.20//NONSGML v1.0//EN
CALSCALE:GREGORIAN
METHOD:PUBLISH
X-WR-CALNAME:Garage Kitchen + Bar | San Diego Bar
X-ORIGINAL-URL:https://garagekitchenbar.com
X-WR-CALDESC:Events for Garage Kitchen + Bar | San Diego Bar
REFRESH-INTERVAL;VALUE=DURATION:PT1H
X-Robots-Tag:noindex
X-PUBLISHED-TTL:PT1H
BEGIN:VTIMEZONE
TZID:America/Los_Angeles
BEGIN:DAYLIGHT
TZOFFSETFROM:-0800
TZOFFSETTO:-0700
TZNAME:PDT
DTSTART:20230312T100000
END:DAYLIGHT
BEGIN:STANDARD
TZOFFSETFROM:-0700
TZOFFSETTO:-0800
TZNAME:PST
DTSTART:20231105T090000
END:STANDARD
BEGIN:DAYLIGHT
TZOFFSETFROM:-0800
TZOFFSETTO:-0700
TZNAME:PDT
DTSTART:20240310T100000
END:DAYLIGHT
BEGIN:STANDARD
TZOFFSETFROM:-0700
TZOFFSETTO:-0800
TZNAME:PST
DTSTART:20241103T090000
END:STANDARD
BEGIN:DAYLIGHT
TZOFFSETFROM:-0800
TZOFFSETTO:-0700
TZNAME:PDT
DTSTART:20250309T100000
END:DAYLIGHT
BEGIN:STANDARD
TZOFFSETFROM:-0700
TZOFFSETTO:-0800
TZNAME:PST
DTSTART:20251102T090000
END:STANDARD
END:VTIMEZONE
BEGIN:VEVENT
DTSTART;TZID=America/Los_Angeles:20240428T190000
DTEND;TZID=America/Los_Angeles:20240428T190000
DTSTAMP:20260424T022102
CREATED:20240408T172318Z
LAST-MODIFIED:20240408T172318Z
UID:10000572-1714330800-1714330800@garagekitchenbar.com
SUMMARY:Shout Entertainers: Dave\, Martha\, James
DESCRIPTION:Doors 7pm\, Pianos 8pm
URL:https://garagekitchenbar.com/event/shout-entertainers-dave-martha-james/
LOCATION:The Shout! House\, 655 4th Ave\, San Diego\, CA\, 92101\, United States
ATTACH;FMTTYPE=image/jpeg:https://garagekitchenbar.com/wp-content/uploads/2023/08/ShoutHouse-040-iu0Zzj.tmp_-NxSCmW.tmp_-inDQwi.tmp_.jpg
END:VEVENT
BEGIN:VEVENT
DTSTART;TZID=America/Los_Angeles:20240427T180000
DTEND;TZID=America/Los_Angeles:20240427T180000
DTSTAMP:20260424T022102
CREATED:20240405T234412Z
LAST-MODIFIED:20240405T234412Z
UID:10000569-1714240800-1714240800@garagekitchenbar.com
SUMMARY:Shout Entertainers: Dave\, Jeff\, James\, Courtney\, Eric + Ladies of Rouge
DESCRIPTION:Doors 6pm\, Pianos 6:30pm\nPiano Players: Dave\, Jeff\, James\, Courtney\, Eric\nGuest performance by Ladies of Rouge \nhttps://www.exploretock.com/theshouthouse/event/477909/saturday-night-w-special-guests-ladies-of-rouge
URL:https://garagekitchenbar.com/event/shout-entertainers-dave-jeff-james-courtney-eric-ladies-of-rouge/
LOCATION:The Shout! House\, 655 4th Ave\, San Diego\, CA\, 92101\, United States
ATTACH;FMTTYPE=image/jpeg:https://garagekitchenbar.com/wp-content/uploads/2024/04/Ladies-of-Rouge2-scaled-1goR9b.tmp_.jpg
END:VEVENT
BEGIN:VEVENT
DTSTART;TZID=America/Los_Angeles:20240426T180000
DTEND;TZID=America/Los_Angeles:20240426T180000
DTSTAMP:20260424T022102
CREATED:20240405T234412Z
LAST-MODIFIED:20240405T234412Z
UID:10000568-1714154400-1714154400@garagekitchenbar.com
SUMMARY:Shout Entertainers: Tom\, Dave\, Courtney\, Martha\, Jeff
DESCRIPTION:Doors 6pm\, Pianos 6:30pm
URL:https://garagekitchenbar.com/event/shout-entertainers-tom-dave-courtney-martha-jeff/
LOCATION:The Shout! House\, 655 4th Ave\, San Diego\, CA\, 92101\, United States
ATTACH;FMTTYPE=image/jpeg:https://garagekitchenbar.com/wp-content/uploads/2023/11/SH-Friday-Happy-Hour-7QD2Bh.tmp_.jpg
END:VEVENT
BEGIN:VEVENT
DTSTART;TZID=America/Los_Angeles:20240425T190000
DTEND;TZID=America/Los_Angeles:20240425T190000
DTSTAMP:20260424T022102
CREATED:20240405T234412Z
LAST-MODIFIED:20240405T234412Z
UID:10000567-1714071600-1714071600@garagekitchenbar.com
SUMMARY:Shout Entertainers: Martha\, Tom\, Eric
DESCRIPTION:Doors 7pm\, Pianos 8pm
URL:https://garagekitchenbar.com/event/shout-entertainers-martha-tom-eric/
LOCATION:The Shout! House\, 655 4th Ave\, San Diego\, CA\, 92101\, United States
ATTACH;FMTTYPE=image/jpeg:https://garagekitchenbar.com/wp-content/uploads/2023/11/ShoutHouse-054-1-W7VwPz.tmp_.jpg
END:VEVENT
BEGIN:VEVENT
DTSTART;TZID=America/Los_Angeles:20240424T190000
DTEND;TZID=America/Los_Angeles:20240424T190000
DTSTAMP:20260424T022102
CREATED:20240405T234412Z
LAST-MODIFIED:20240405T234412Z
UID:10000566-1713985200-1713985200@garagekitchenbar.com
SUMMARY:Shout Entertainers: Tom\, James\, Dave
DESCRIPTION:Doors 7pm\, Pianos 8pm
URL:https://garagekitchenbar.com/event/shout-entertainers-tom-james-dave/
LOCATION:The Shout! House\, 655 4th Ave\, San Diego\, CA\, 92101\, United States
ATTACH;FMTTYPE=image/jpeg:https://garagekitchenbar.com/wp-content/uploads/2023/08/ShoutHouse-018-cvFDG0.tmp_-Wz6Af6.tmp_-H2rToK.tmp_.jpg
END:VEVENT
BEGIN:VEVENT
DTSTART;TZID=America/Los_Angeles:20240423T190000
DTEND;TZID=America/Los_Angeles:20240423T190000
DTSTAMP:20260424T022102
CREATED:20240405T234412Z
LAST-MODIFIED:20240405T234412Z
UID:10000565-1713898800-1713898800@garagekitchenbar.com
SUMMARY:Shout Entertainers: Laura W\, Martha\, Jeff
DESCRIPTION:Doors 7pm\, Pianos 8pm
URL:https://garagekitchenbar.com/event/shout-entertainers-laura-w-martha-jeff/
LOCATION:The Shout! House\, 655 4th Ave\, San Diego\, CA\, 92101\, United States
ATTACH;FMTTYPE=image/jpeg:https://garagekitchenbar.com/wp-content/uploads/2023/08/ShoutHouse-050-1-QcBec3.tmp_-sRow3O.tmp_-S2Z1y1.tmp_.jpg
END:VEVENT
BEGIN:VEVENT
DTSTART;TZID=America/Los_Angeles:20240421T120000
DTEND;TZID=America/Los_Angeles:20240421T120000
DTSTAMP:20260424T022102
CREATED:20240405T234402Z
LAST-MODIFIED:20240405T234402Z
UID:10000563-1713700800-1713700800@garagekitchenbar.com
SUMMARY:The Shout! House Dueling Piano Brunch
DESCRIPTION:Sunday Funday: Dueling Piano Spring Brunch – Sun 4/21! 21+\nDoors open at noon\, pianos start at 12:30pm.\nPiano Players: Tom\, Martha\, Jeff \nSunday Funday-Brunch: Because Recovery Starts with Music and Mimosas! Join us at Shout! House on 4/21 for the ultimate post-4/20 pick-me-up! \n\nEnjoy traditional brunch food\, try our fun boozy cereal shots\, sip on a mimosa or big-ass beer while enjoying the show. $15 Bottles of Bubbles!! \n\n\nGather your squad\, request your favorite songs for a brunch to remember. Rock\, roll\, and brunch like you mean it!! \nMAKE YOUR RESERVATION HERE\nRegular PM 21+ show after brunch. Doors 7pm\, Pianos 8pm
URL:https://garagekitchenbar.com/event/the-shout-house-dueling-piano-brunch/
LOCATION:The Shout! House\, 655 4th Ave\, San Diego\, CA\, 92101\, United States
ATTACH;FMTTYPE=image/jpeg:https://garagekitchenbar.com/wp-content/uploads/2024/04/PIANO-BRUNCH-4-21-Martha-Tom-scaled-R7j6Jd.tmp_.jpg
END:VEVENT
BEGIN:VEVENT
DTSTART;TZID=America/Los_Angeles:20240420T080000
DTEND;TZID=America/Los_Angeles:20240420T170000
DTSTAMP:20260424T022102
CREATED:20240405T234402Z
LAST-MODIFIED:20240405T234402Z
UID:10000562-1713600000-1713632400@garagekitchenbar.com
SUMMARY:Shout Entertainers: Jeff\, Martha\, James\, Eric\, Dave
DESCRIPTION:Doors 6pm\, Pianos 6:30pm
URL:https://garagekitchenbar.com/event/shout-entertainers-jeff-martha-james-eric-dave/
LOCATION:The Shout! House\, 655 4th Ave\, San Diego\, CA\, 92101\, United States
ATTACH;FMTTYPE=image/jpeg:https://garagekitchenbar.com/wp-content/uploads/2023/08/ShoutHouse-015-6yN08S.tmp_-C0z9qm.tmp_-xoXEDg.tmp_.jpg
END:VEVENT
BEGIN:VEVENT
DTSTART;TZID=America/Los_Angeles:20240419T180000
DTEND;TZID=America/Los_Angeles:20240419T180000
DTSTAMP:20260424T022102
CREATED:20240405T234402Z
LAST-MODIFIED:20240405T234402Z
UID:10000561-1713549600-1713549600@garagekitchenbar.com
SUMMARY:Shout Entertainers: Eric\, Jeff\, James\, Dave\, Courtney
DESCRIPTION:Doors 6pm\, Pianos 6:30pm
URL:https://garagekitchenbar.com/event/shout-entertainers-eric-jeff-james-dave-courtney/
LOCATION:The Shout! House\, 655 4th Ave\, San Diego\, CA\, 92101\, United States
ATTACH;FMTTYPE=image/jpeg:https://garagekitchenbar.com/wp-content/uploads/2023/11/SH-Friday-Happy-Hour-7QD2Bh.tmp_.jpg
END:VEVENT
BEGIN:VEVENT
DTSTART;TZID=America/Los_Angeles:20240418T190000
DTEND;TZID=America/Los_Angeles:20240418T190000
DTSTAMP:20260424T022102
CREATED:20240405T234401Z
LAST-MODIFIED:20240405T234401Z
UID:10000560-1713466800-1713466800@garagekitchenbar.com
SUMMARY:Shout Entertainers: Tom\, Courtney\, Martha
DESCRIPTION:Doors 7pm\, Pianos 8pm
URL:https://garagekitchenbar.com/event/shout-entertainers-tom-courtney-martha/
LOCATION:The Shout! House\, 655 4th Ave\, San Diego\, CA\, 92101\, United States
ATTACH;FMTTYPE=image/jpeg:https://garagekitchenbar.com/wp-content/uploads/2023/08/ShoutHouse-022-vsFi1T.tmp_-e44DPo.tmp_-arFu1l.tmp_.jpg
END:VEVENT
BEGIN:VEVENT
DTSTART;TZID=America/Los_Angeles:20240417T190000
DTEND;TZID=America/Los_Angeles:20240417T190000
DTSTAMP:20260424T022102
CREATED:20240405T234401Z
LAST-MODIFIED:20240405T234401Z
UID:10000559-1713380400-1713380400@garagekitchenbar.com
SUMMARY:Shout Entertainers: Martha\, Tom\, Dave
DESCRIPTION:Doors 7pm\, Pianos 8pm
URL:https://garagekitchenbar.com/event/shout-entertainers-martha-tom-dave/
LOCATION:The Shout! House\, 655 4th Ave\, San Diego\, CA\, 92101\, United States
ATTACH;FMTTYPE=image/jpeg:https://garagekitchenbar.com/wp-content/uploads/2023/08/ShoutHouse-060-SKTORR.tmp_-XmRlHv.tmp_-Cao2Ln.tmp_.jpg
END:VEVENT
BEGIN:VEVENT
DTSTART;TZID=America/Los_Angeles:20240416T190000
DTEND;TZID=America/Los_Angeles:20240416T190000
DTSTAMP:20260424T022102
CREATED:20240405T234401Z
LAST-MODIFIED:20240405T234401Z
UID:10000558-1713294000-1713294000@garagekitchenbar.com
SUMMARY:Shout Entertainers: Eric\, Jeff\, James\, Conor
DESCRIPTION:Doors 7pm\, Pianos 8pm
URL:https://garagekitchenbar.com/event/shout-entertainers-eric-jeff-james-conor/
LOCATION:The Shout! House\, 655 4th Ave\, San Diego\, CA\, 92101\, United States
ATTACH;FMTTYPE=image/jpeg:https://garagekitchenbar.com/wp-content/uploads/2023/08/ShoutHouse-060-SKTORR.tmp_-XmRlHv.tmp_-Cao2Ln.tmp_.jpg
END:VEVENT
BEGIN:VEVENT
DTSTART;TZID=America/Los_Angeles:20240414T190000
DTEND;TZID=America/Los_Angeles:20240414T190000
DTSTAMP:20260424T022102
CREATED:20240405T234401Z
LAST-MODIFIED:20240405T234401Z
UID:10000557-1713121200-1713121200@garagekitchenbar.com
SUMMARY:Shout Entertainers: Jon\, Courtney\, Jeff
DESCRIPTION:Doors 7pm\, Pianos 8pm
URL:https://garagekitchenbar.com/event/shout-entertainers-jon-courtney-jeff-4/
LOCATION:The Shout! House\, 655 4th Ave\, San Diego\, CA\, 92101\, United States
ATTACH;FMTTYPE=image/jpeg:https://garagekitchenbar.com/wp-content/uploads/2023/08/ShoutHouse-060-SKTORR.tmp_-XmRlHv.tmp_-Cao2Ln.tmp_.jpg
END:VEVENT
BEGIN:VEVENT
DTSTART;TZID=America/Los_Angeles:20240413T180000
DTEND;TZID=America/Los_Angeles:20240413T180000
DTSTAMP:20260424T022102
CREATED:20240405T234353Z
LAST-MODIFIED:20240405T234353Z
UID:10000556-1713031200-1713031200@garagekitchenbar.com
SUMMARY:Shout Entertainers: Tom\, Dave Jon\, James\, Martha + Fiddle Player
DESCRIPTION:Doors 6pm\, Pianos 6:30pm\nPiano Players: Tom\, Dave\, Jon\, James\, Martha\nGuest Performance by Fiddle Player Melissa Barrison \nRESERVATIONS \n 
URL:https://garagekitchenbar.com/event/shout-entertainers-tom-dave-jon-james-martha-fiddle-player/
LOCATION:The Shout! House\, 655 4th Ave\, San Diego\, CA\, 92101\, United States
ATTACH;FMTTYPE=image/jpeg:https://garagekitchenbar.com/wp-content/uploads/2024/04/Fiddle-Player-Melissa2-scaled-YkjSJl.tmp_.jpg
END:VEVENT
BEGIN:VEVENT
DTSTART;TZID=America/Los_Angeles:20240412T180000
DTEND;TZID=America/Los_Angeles:20240412T180000
DTSTAMP:20260424T022102
CREATED:20240405T234353Z
LAST-MODIFIED:20240405T234353Z
UID:10000555-1712944800-1712944800@garagekitchenbar.com
SUMMARY:Shout Entertainers: Jeff\, Martha\, Courtney\, Dave\, James
DESCRIPTION:Doors 6pm\, Pianos 6:30pm
URL:https://garagekitchenbar.com/event/shout-entertainers-jeff-martha-courtney-dave-james/
LOCATION:The Shout! House\, 655 4th Ave\, San Diego\, CA\, 92101\, United States
ATTACH;FMTTYPE=image/jpeg:https://garagekitchenbar.com/wp-content/uploads/2023/11/SH-Friday-Happy-Hour-7QD2Bh.tmp_.jpg
END:VEVENT
BEGIN:VEVENT
DTSTART;TZID=America/Los_Angeles:20240411T190000
DTEND;TZID=America/Los_Angeles:20240411T190000
DTSTAMP:20260424T022102
CREATED:20240405T234353Z
LAST-MODIFIED:20240405T234353Z
UID:10000554-1712862000-1712862000@garagekitchenbar.com
SUMMARY:Shout Entertainers: Tom\, Jon\, Jeff
DESCRIPTION:Doors 7pm\, Pianos 8pm
URL:https://garagekitchenbar.com/event/shout-entertainers-tom-jon-jeff-2/
LOCATION:The Shout! House\, 655 4th Ave\, San Diego\, CA\, 92101\, United States
ATTACH;FMTTYPE=image/jpeg:https://garagekitchenbar.com/wp-content/uploads/2023/07/ShoutHouse-025-IwNp3D.tmp_.jpg
END:VEVENT
BEGIN:VEVENT
DTSTART;TZID=America/Los_Angeles:20240410T190000
DTEND;TZID=America/Los_Angeles:20240410T190000
DTSTAMP:20260424T022102
CREATED:20240405T234353Z
LAST-MODIFIED:20240405T234353Z
UID:10000553-1712775600-1712775600@garagekitchenbar.com
SUMMARY:Shout Entertainers: Courtney\, Eric\, James
DESCRIPTION:Doors 7pm\, Pianos 8pm
URL:https://garagekitchenbar.com/event/shout-entertainers-courtney-eric-james/
LOCATION:The Shout! House\, 655 4th Ave\, San Diego\, CA\, 92101\, United States
ATTACH;FMTTYPE=image/jpeg:https://garagekitchenbar.com/wp-content/uploads/2023/08/ShoutHouse-060-SKTORR.tmp_-XmRlHv.tmp_-Cao2Ln.tmp_.jpg
END:VEVENT
BEGIN:VEVENT
DTSTART;TZID=America/Los_Angeles:20240409T190000
DTEND;TZID=America/Los_Angeles:20240409T190000
DTSTAMP:20260424T022102
CREATED:20240405T234353Z
LAST-MODIFIED:20240405T234353Z
UID:10000552-1712689200-1712689200@garagekitchenbar.com
SUMMARY:Shout House Entertainers: Eric\, Martha\, Dave
DESCRIPTION:Doors 7pm\, Pianos 8pm
URL:https://garagekitchenbar.com/event/shout-house-entertainers-eric-martha-dave/
LOCATION:The Shout! House\, 655 4th Ave\, San Diego\, CA\, 92101\, United States
ATTACH;FMTTYPE=image/jpeg:https://garagekitchenbar.com/wp-content/uploads/2023/08/ShoutHouse-018-cvFDG0.tmp_-Wz6Af6.tmp_-H2rToK.tmp_.jpg
END:VEVENT
BEGIN:VEVENT
DTSTART;TZID=America/Los_Angeles:20240407T190000
DTEND;TZID=America/Los_Angeles:20240407T190000
DTSTAMP:20260424T022102
CREATED:20240405T234353Z
LAST-MODIFIED:20240405T234353Z
UID:10000551-1712516400-1712516400@garagekitchenbar.com
SUMMARY:Shout Entertainers: Dave\, Courtney\, Tom
DESCRIPTION:Doors 7pm\, Pianos 8pm
URL:https://garagekitchenbar.com/event/shout-entertainers-dave-courtney-tom/
LOCATION:The Shout! House\, 655 4th Ave\, San Diego\, CA\, 92101\, United States
ATTACH;FMTTYPE=image/jpeg:https://garagekitchenbar.com/wp-content/uploads/2023/08/ShoutHouse-015-1-VShQpL.tmp_-v46SLi.tmp_-aCWAPW.tmp_.jpg
END:VEVENT
BEGIN:VEVENT
DTSTART;TZID=America/Los_Angeles:20240406T180000
DTEND;TZID=America/Los_Angeles:20240406T180000
DTSTAMP:20260424T022102
CREATED:20240405T234345Z
LAST-MODIFIED:20240405T234345Z
UID:10000550-1712426400-1712426400@garagekitchenbar.com
SUMMARY:Shout Entertainers: Jon\, Dave\, Courtney\, Martha\, Eric + Horn Section
DESCRIPTION:Doors 6pm\, Pianos 6:30pm\nShout Entertainers: Jon\, Dave\, Courtney\, Martha\, Eric\nGuest Performance but The Shout! House Horn Section\, “The Horny Boys” \nSold out for table reservations. Walk-ins welcome for staying room!!
URL:https://garagekitchenbar.com/event/shout-entertainers-jon-dave-courtney-martha-eric-horn-section/
LOCATION:The Shout! House\, 655 4th Ave\, San Diego\, CA\, 92101\, United States
ATTACH;FMTTYPE=image/jpeg:https://garagekitchenbar.com/wp-content/uploads/2024/04/Horn-Section-scaled-rbNHfH.tmp_.jpg
END:VEVENT
BEGIN:VEVENT
DTSTART;TZID=America/Los_Angeles:20240405T180000
DTEND;TZID=America/Los_Angeles:20240405T180000
DTSTAMP:20260424T022102
CREATED:20240405T234345Z
LAST-MODIFIED:20240405T234345Z
UID:10000549-1712340000-1712340000@garagekitchenbar.com
SUMMARY:Shout Entertainers: Jeff\, Martha\, Eric\, Jon
DESCRIPTION:Doors 6pm\, Pianos 6:30pm.
URL:https://garagekitchenbar.com/event/shout-entertainers-jeff-martha-eric-jon/
LOCATION:The Shout! House\, 655 4th Ave\, San Diego\, CA\, 92101\, United States
ATTACH;FMTTYPE=image/jpeg:https://garagekitchenbar.com/wp-content/uploads/2023/11/SH-Friday-Happy-Hour-7QD2Bh.tmp_.jpg
END:VEVENT
BEGIN:VEVENT
DTSTART;TZID=America/Los_Angeles:20240330T180000
DTEND;TZID=America/Los_Angeles:20240330T180000
DTSTAMP:20260424T022102
CREATED:20240312T193447Z
LAST-MODIFIED:20240312T193447Z
UID:10000541-1711821600-1711821600@garagekitchenbar.com
SUMMARY:Shout! Entertainers: Tom\, Martha\, Jon\, Dave\, Courtney
DESCRIPTION:Doors 6pm\, Pianos 6:30pm
URL:https://garagekitchenbar.com/event/shout-entertainers-tom-martha-jon-dave-courtney-2/
LOCATION:The Shout! House\, 655 4th Ave\, San Diego\, CA\, 92101\, United States
ATTACH;FMTTYPE=image/jpeg:https://garagekitchenbar.com/wp-content/uploads/2023/08/ShoutHouse-040-iu0Zzj.tmp_-NxSCmW.tmp_-inDQwi.tmp_.jpg
END:VEVENT
BEGIN:VEVENT
DTSTART;TZID=America/Los_Angeles:20240329T180000
DTEND;TZID=America/Los_Angeles:20240329T180000
DTSTAMP:20260424T022102
CREATED:20240312T193447Z
LAST-MODIFIED:20240312T193447Z
UID:10000540-1711735200-1711735200@garagekitchenbar.com
SUMMARY:Shout! Entertainers: Tom\, Martha\, Jon\, Dave\, Courtney
DESCRIPTION:Doors 6pm\, Pianos 6:30pm
URL:https://garagekitchenbar.com/event/shout-entertainers-tom-martha-jon-dave-courtney/
LOCATION:The Shout! House\, 655 4th Ave\, San Diego\, CA\, 92101\, United States
ATTACH;FMTTYPE=image/jpeg:https://garagekitchenbar.com/wp-content/uploads/2023/11/SH-Friday-Happy-Hour-7QD2Bh.tmp_.jpg
END:VEVENT
BEGIN:VEVENT
DTSTART;TZID=America/Los_Angeles:20240328T190000
DTEND;TZID=America/Los_Angeles:20240328T190000
DTSTAMP:20260424T022102
CREATED:20240312T193444Z
LAST-MODIFIED:20240312T193444Z
UID:10000539-1711652400-1711652400@garagekitchenbar.com
SUMMARY:Shout! Entertainers: Eric\, Jeff\, Jon
DESCRIPTION:GO PADRES!! Join us before and after the game. \nDoors 7pm\, Pianos 8pm
URL:https://garagekitchenbar.com/event/shout-entertainers-eric-jeff-jon-2/
LOCATION:The Shout! House\, 655 4th Ave\, San Diego\, CA\, 92101\, United States
ATTACH;FMTTYPE=image/jpeg:https://garagekitchenbar.com/wp-content/uploads/2024/03/IMG_2495-y2zgfz.tmp_.jpg
END:VEVENT
BEGIN:VEVENT
DTSTART;TZID=America/Los_Angeles:20240327T190000
DTEND;TZID=America/Los_Angeles:20240327T190000
DTSTAMP:20260424T022102
CREATED:20240312T193443Z
LAST-MODIFIED:20240312T193443Z
UID:10000538-1711566000-1711566000@garagekitchenbar.com
SUMMARY:Shout! Entertainers: Tom\, Jon\, Martha
DESCRIPTION:Doors 7pm\, Pianos 8pm
URL:https://garagekitchenbar.com/event/shout-entertainers-tom-jon-martha/
LOCATION:The Shout! House\, 655 4th Ave\, San Diego\, CA\, 92101\, United States
ATTACH;FMTTYPE=image/jpeg:https://garagekitchenbar.com/wp-content/uploads/2023/07/ShoutHouse-050-FGOvpV.tmp_.jpg
END:VEVENT
BEGIN:VEVENT
DTSTART;TZID=America/Los_Angeles:20240326T190000
DTEND;TZID=America/Los_Angeles:20240326T190000
DTSTAMP:20260424T022102
CREATED:20240312T193443Z
LAST-MODIFIED:20240312T193443Z
UID:10000537-1711479600-1711479600@garagekitchenbar.com
SUMMARY:Shout! Entertainers: Dave\, Jeff\, Courtney
DESCRIPTION:Doors 7pm\, Pianos 8pm
URL:https://garagekitchenbar.com/event/shout-entertainers-dave-jeff-courtney-3/
LOCATION:The Shout! House\, 655 4th Ave\, San Diego\, CA\, 92101\, United States
ATTACH;FMTTYPE=image/jpeg:https://garagekitchenbar.com/wp-content/uploads/2023/07/ShoutHouse-025-IwNp3D.tmp_.jpg
END:VEVENT
BEGIN:VEVENT
DTSTART;TZID=America/Los_Angeles:20240324T190000
DTEND;TZID=America/Los_Angeles:20240324T190000
DTSTAMP:20260424T022102
CREATED:20240312T193443Z
LAST-MODIFIED:20240312T193443Z
UID:10000536-1711306800-1711306800@garagekitchenbar.com
SUMMARY:Shout! Entertainers: Tom\, Dave\, James
DESCRIPTION:Doors 7pm\, Pianos 8pm
URL:https://garagekitchenbar.com/event/shout-entertainers-tom-dave-james/
LOCATION:The Shout! House\, 655 4th Ave\, San Diego\, CA\, 92101\, United States
ATTACH;FMTTYPE=image/jpeg:https://garagekitchenbar.com/wp-content/uploads/2023/07/ShoutHouse-058-dO5KJd.tmp_.jpg
END:VEVENT
BEGIN:VEVENT
DTSTART;TZID=America/Los_Angeles:20240323T180000
DTEND;TZID=America/Los_Angeles:20240323T180000
DTSTAMP:20260424T022102
CREATED:20240312T193448Z
LAST-MODIFIED:20240312T193448Z
UID:10000542-1711216800-1711216800@garagekitchenbar.com
SUMMARY:The Shout! House 20 Year Anniversary Weekend
DESCRIPTION:The Shout! House – 20 Year Anniversary Weekend!\nJoin us for a weekend of music\, memories\, and merriment as we celebrate two decades of entertaining San Diego! \nDATE: Saturday March 23rd\nTIME: Doors 6PM\, Dueling Pianos 6:30PM \nPIANO PLAYERS:\nJon\, James\, Eric\, Jeff\, Martha \nSPECIAL GUEST PERFORMANCES:\nThe Shout House Horn Section and Fiddle Player\, Melissa Barrison! \nDUELING PIANO SHOW\nExperience the thrill of our non-stop dueling piano show\, all night long! Our talented pianists will be taking your song requests\, and keeping the party going late into the night. \nGather your friends\, reserve your spot\, and get ready to celebrate 20 years of musical memories at The Shout! House Dueling Piano Bar! \nTABLE RESERVATIONS
URL:https://garagekitchenbar.com/event/the-shout-house-20-year-anniversary-weekend-2/
LOCATION:The Shout! House\, 655 4th Ave\, San Diego\, CA\, 92101\, United States
ATTACH;FMTTYPE=image/png:https://garagekitchenbar.com/wp-content/uploads/2024/03/20-Year-Anniversary-Weekend-alyPr8.tmp_.png
END:VEVENT
BEGIN:VEVENT
DTSTART;TZID=America/Los_Angeles:20240323T180000
DTEND;TZID=America/Los_Angeles:20240323T180000
DTSTAMP:20260424T022102
CREATED:20240312T193443Z
LAST-MODIFIED:20240312T193443Z
UID:10000535-1711216800-1711216800@garagekitchenbar.com
SUMMARY:Garage Kitchen + Bar – 10 Year Anniversary Weekend w/ Live Music
DESCRIPTION:Join us all weekend for as we celebrate 10 Years in the Gaslamp. Guest can enjoy anniversary specials\, surprises and Live Music all weekend long. \n\n\nSat 3/23 LIVE MUSIC 6-8pm by local talent Farrah Camu \nFarrah Camu was born and raised in Honolulu\, Hawaii – but currently living on the mainland in San Diego\, California. With 90k Youtube subscribers and almost every video released gaining 100’s of thousands of views\, it is clear that her talent is easily noticeable. Farrah has a pure and sincere voice with a set list that will cover well known classics to contemporary / top 40 selections.
URL:https://garagekitchenbar.com/event/garage-kitchen-bar-10-year-anniversary-weekend-w-live-music-3/
LOCATION:The Shout! House\, 655 4th Ave\, San Diego\, CA\, 92101\, United States
ATTACH;FMTTYPE=image/jpeg:https://garagekitchenbar.com/wp-content/uploads/2024/03/Garage-Anniversary-Weekend-jnaL5b.tmp_.jpg
END:VEVENT
BEGIN:VEVENT
DTSTART;TZID=America/Los_Angeles:20240322T180000
DTEND;TZID=America/Los_Angeles:20240322T180000
DTSTAMP:20260424T022102
CREATED:20240312T193442Z
LAST-MODIFIED:20240312T193442Z
UID:10000533-1711130400-1711130400@garagekitchenbar.com
SUMMARY:The Shout! House 20 Year Anniversary Weekend
DESCRIPTION:The Shout! House – 20 Year Anniversary!\nJoin us for a weekend of music\, memories\, and merriment as we celebrate two decades of entertaining San Diego! \nDATE: Friday March 22nd\nTIME: Doors 6PM\, Dueling Pianos 6:30PM\nHAPPY HOUR: 6-7pm & 10-11pm\n1/2 OFF Domestic Bottles & Seltzers\,\n1/2 OFF Cover for Walk-Ins\n$2 off All Specialty Drinks (6pm-7pm) \nPIANO PLAYERS:\nEric\, Martha\, Jon\, Dave\, Courtney \nSPECIAL GUEST PERFORMANCES:\nSpecial guest performances from The Shout House Horn Section and Fiddle Player\, Melissa Barrison! \nDUELING PIANO SHOW\nExperience the thrill of our non-stop dueling piano show\, all night long!! Our talented pianists will be taking your song requests\, and keeping the party going late into the night. \nGather your friends\, reserve your spot\, and get ready to celebrate 20 years of musical memories at The Shout! House Dueling Piano Bar! \nTABLE RESERVATIONS
URL:https://garagekitchenbar.com/event/the-shout-house-20-year-anniversary-weekend/
LOCATION:The Shout! House\, 655 4th Ave\, San Diego\, CA\, 92101\, United States
ATTACH;FMTTYPE=image/png:https://garagekitchenbar.com/wp-content/uploads/2024/03/20-Year-Anniversary-Weekend-alyPr8.tmp_.png
END:VEVENT
END:VCALENDAR