BEGIN:VCALENDAR
VERSION:2.0
PRODID:-//Garage Kitchen + Bar | San Diego Bar - ECPv6.15.20//NONSGML v1.0//EN
CALSCALE:GREGORIAN
METHOD:PUBLISH
X-WR-CALNAME:Garage Kitchen + Bar | San Diego Bar
X-ORIGINAL-URL:https://garagekitchenbar.com
X-WR-CALDESC:Events for Garage Kitchen + Bar | San Diego Bar
REFRESH-INTERVAL;VALUE=DURATION:PT1H
X-Robots-Tag:noindex
X-PUBLISHED-TTL:PT1H
BEGIN:VTIMEZONE
TZID:America/Los_Angeles
BEGIN:DAYLIGHT
TZOFFSETFROM:-0800
TZOFFSETTO:-0700
TZNAME:PDT
DTSTART:20230312T100000
END:DAYLIGHT
BEGIN:STANDARD
TZOFFSETFROM:-0700
TZOFFSETTO:-0800
TZNAME:PST
DTSTART:20231105T090000
END:STANDARD
BEGIN:DAYLIGHT
TZOFFSETFROM:-0800
TZOFFSETTO:-0700
TZNAME:PDT
DTSTART:20240310T100000
END:DAYLIGHT
BEGIN:STANDARD
TZOFFSETFROM:-0700
TZOFFSETTO:-0800
TZNAME:PST
DTSTART:20241103T090000
END:STANDARD
BEGIN:DAYLIGHT
TZOFFSETFROM:-0800
TZOFFSETTO:-0700
TZNAME:PDT
DTSTART:20250309T100000
END:DAYLIGHT
BEGIN:STANDARD
TZOFFSETFROM:-0700
TZOFFSETTO:-0800
TZNAME:PST
DTSTART:20251102T090000
END:STANDARD
END:VTIMEZONE
BEGIN:VEVENT
DTSTART;TZID=America/Los_Angeles:20240901T180000
DTEND;TZID=America/Los_Angeles:20240901T180000
DTSTAMP:20260423T195504
CREATED:20240812T194640Z
LAST-MODIFIED:20240812T194640Z
UID:10000695-1725213600-1725213600@garagekitchenbar.com
SUMMARY:Shout! Entertainers: Eric\, James\, Dave\, Courtney
DESCRIPTION:Doors 6pm\, Pianos 6:30pm \nTABLE RESERVATIONS
URL:https://garagekitchenbar.com/event/shout-entertainers-eric-james-dave-courtney/
LOCATION:The Shout! House\, 655 4th Ave\, San Diego\, CA\, 92101\, United States
ATTACH;FMTTYPE=image/jpeg:https://garagekitchenbar.com/wp-content/uploads/2023/08/ShoutHouse-022-vsFi1T.tmp_-e44DPo.tmp_-arFu1l.tmp_.jpg
END:VEVENT
BEGIN:VEVENT
DTSTART;TZID=America/Los_Angeles:20240831T180000
DTEND;TZID=America/Los_Angeles:20240831T180000
DTSTAMP:20260423T195504
CREATED:20240812T194639Z
LAST-MODIFIED:20240812T194639Z
UID:10000694-1725127200-1725127200@garagekitchenbar.com
SUMMARY:Shout! Entertainers: Tom\, Eric\, Courtney\, James\, Martha. Guest Performance by “The Horny Boys”
DESCRIPTION:Doors 6pm\, Pianos 6:30pm\nGuest Performance by The Shout! House horn Section\, “The Horny Boys”. \nTABLE RESERVATIONS
URL:https://garagekitchenbar.com/event/shout-entertainers-tom-eric-courtney-james-martha-guest-performance-by-the-horny-boys/
LOCATION:The Shout! House\, 655 4th Ave\, San Diego\, CA\, 92101\, United States
ATTACH;FMTTYPE=image/jpeg:https://garagekitchenbar.com/wp-content/uploads/2024/04/Horn-Section-scaled-rbNHfH.tmp_.jpg
END:VEVENT
BEGIN:VEVENT
DTSTART;TZID=America/Los_Angeles:20240830T180000
DTEND;TZID=America/Los_Angeles:20240830T180000
DTSTAMP:20260423T195504
CREATED:20240812T194639Z
LAST-MODIFIED:20240812T194639Z
UID:10000693-1725040800-1725040800@garagekitchenbar.com
SUMMARY:Shout! Entertainers: Jeff\, Tom\, Dave\, Martha\, Courtney
DESCRIPTION:Doors 7pm\, Pianos 8pm \nTABLE RESERVATIONS
URL:https://garagekitchenbar.com/event/shout-entertainers-jeff-tom-dave-martha-courtney/
LOCATION:The Shout! House\, 655 4th Ave\, San Diego\, CA\, 92101\, United States
ATTACH;FMTTYPE=image/jpeg:https://garagekitchenbar.com/wp-content/uploads/2024/07/Untitled-1-18-Large-ClwChA.tmp_.jpg
END:VEVENT
BEGIN:VEVENT
DTSTART;TZID=America/Los_Angeles:20240829T190000
DTEND;TZID=America/Los_Angeles:20240829T190000
DTSTAMP:20260423T195504
CREATED:20240812T194639Z
LAST-MODIFIED:20240812T194639Z
UID:10000692-1724958000-1724958000@garagekitchenbar.com
SUMMARY:Shout! Entertainers: Eric\, Dave\, James
DESCRIPTION:Doors 7pm\, Pianos 8pm \nTABLE RESERVATIONS
URL:https://garagekitchenbar.com/event/shout-entertainers-eric-dave-james/
LOCATION:The Shout! House\, 655 4th Ave\, San Diego\, CA\, 92101\, United States
ATTACH;FMTTYPE=image/jpeg:https://garagekitchenbar.com/wp-content/uploads/2023/08/ShoutHouse-040-iu0Zzj.tmp_-NxSCmW.tmp_-inDQwi.tmp_.jpg
END:VEVENT
BEGIN:VEVENT
DTSTART;TZID=America/Los_Angeles:20240828T190000
DTEND;TZID=America/Los_Angeles:20240828T190000
DTSTAMP:20260423T195504
CREATED:20240812T194638Z
LAST-MODIFIED:20240812T194638Z
UID:10000691-1724871600-1724871600@garagekitchenbar.com
SUMMARY:Shout! Entertainers: Martha\, Tom\, Eric
DESCRIPTION:Doors 7pm\, Pianos 8pm \nTABLE RESERVATIONS
URL:https://garagekitchenbar.com/event/shout-entertainers-martha-tom-eric-2/
LOCATION:The Shout! House\, 655 4th Ave\, San Diego\, CA\, 92101\, United States
ATTACH;FMTTYPE=image/jpeg:https://garagekitchenbar.com/wp-content/uploads/2023/08/ShoutHouse-015-6yN08S.tmp_-C0z9qm.tmp_-xoXEDg.tmp_.jpg
END:VEVENT
BEGIN:VEVENT
DTSTART;TZID=America/Los_Angeles:20240827T190000
DTEND;TZID=America/Los_Angeles:20240827T190000
DTSTAMP:20260423T195504
CREATED:20240812T194638Z
LAST-MODIFIED:20240812T194638Z
UID:10000690-1724785200-1724785200@garagekitchenbar.com
SUMMARY:Shout! Entertainers: James\, Tom\, Courtney
DESCRIPTION:Doors 7pm\, Pianos 8pm \nTABLE RESERVATIONS
URL:https://garagekitchenbar.com/event/shout-entertainers-james-tom-courtney/
LOCATION:The Shout! House\, 655 4th Ave\, San Diego\, CA\, 92101\, United States
ATTACH;FMTTYPE=image/jpeg:https://garagekitchenbar.com/wp-content/uploads/2023/08/ShoutHouse-040-iu0Zzj.tmp_-NxSCmW.tmp_-inDQwi.tmp_.jpg
END:VEVENT
BEGIN:VEVENT
DTSTART;TZID=America/Los_Angeles:20240825T190000
DTEND;TZID=America/Los_Angeles:20240825T193000
DTSTAMP:20260423T195504
CREATED:20240812T194637Z
LAST-MODIFIED:20240812T194637Z
UID:10000688-1724612400-1724614200@garagekitchenbar.com
SUMMARY:Shout! Entertainers: Tpm\, Jon\, Martha
DESCRIPTION:Doors 7pm\, Pianos 8pm \nTABLE RESERVATIONS
URL:https://garagekitchenbar.com/event/shout-entertainers-tpm-jon-martha/
LOCATION:The Shout! House\, 655 4th Ave\, San Diego\, CA\, 92101\, United States
ATTACH;FMTTYPE=image/jpeg:https://garagekitchenbar.com/wp-content/uploads/2023/10/ShoutHouse-050-FGOvpV.tmp_-TWKFbt.tmp_-T1HEBQ.tmp_.jpg
END:VEVENT
BEGIN:VEVENT
DTSTART;TZID=America/Los_Angeles:20240824T180000
DTEND;TZID=America/Los_Angeles:20240824T180000
DTSTAMP:20260423T195504
CREATED:20240812T194637Z
LAST-MODIFIED:20240812T194637Z
UID:10000687-1724522400-1724522400@garagekitchenbar.com
SUMMARY:Shout! Entertainers: Martha\, James\, Jon\, Courtney\, Eric
DESCRIPTION:Doors 6pm\, Pianos 6:30pm \nTABLE RESERVATIONS
URL:https://garagekitchenbar.com/event/shout-entertainers-martha-james-jon-courtney-eric/
LOCATION:The Shout! House\, 655 4th Ave\, San Diego\, CA\, 92101\, United States
ATTACH;FMTTYPE=image/jpeg:https://garagekitchenbar.com/wp-content/uploads/2023/08/ShoutHouse-058-dO5KJd.tmp_-uEA4iu.tmp_-PpEmvJ.tmp_.jpg
END:VEVENT
BEGIN:VEVENT
DTSTART;TZID=America/Los_Angeles:20240823T180000
DTEND;TZID=America/Los_Angeles:20240823T180000
DTSTAMP:20260423T195504
CREATED:20240812T194636Z
LAST-MODIFIED:20240812T194636Z
UID:10000686-1724436000-1724436000@garagekitchenbar.com
SUMMARY:Shout! Entertainers: Tom\, Martha\, Eric\, James\, Courtney
DESCRIPTION:Doors 6pm\, Pianos 6:30pm \nTABLE RESERVATIONS
URL:https://garagekitchenbar.com/event/shout-entertainers-tom-martha-eric-james-courtney/
LOCATION:The Shout! House\, 655 4th Ave\, San Diego\, CA\, 92101\, United States
ATTACH;FMTTYPE=image/jpeg:https://garagekitchenbar.com/wp-content/uploads/2024/07/Untitled-1-18-Large-ClwChA.tmp_.jpg
END:VEVENT
BEGIN:VEVENT
DTSTART;TZID=America/Los_Angeles:20240822T190000
DTEND;TZID=America/Los_Angeles:20240822T190000
DTSTAMP:20260423T195504
CREATED:20240812T194636Z
LAST-MODIFIED:20240812T194636Z
UID:10000685-1724353200-1724353200@garagekitchenbar.com
SUMMARY:Shout! Entertainers: Jon\, Jeff\, Tom
DESCRIPTION:Doors 7pm\, Pianos 8pm \nTABLE RESERVATIONS
URL:https://garagekitchenbar.com/event/shout-entertainers-jon-jeff-tom/
LOCATION:The Shout! House\, 655 4th Ave\, San Diego\, CA\, 92101\, United States
ATTACH;FMTTYPE=image/jpeg:https://garagekitchenbar.com/wp-content/uploads/2023/08/ShoutHouse-018-cvFDG0.tmp_-Wz6Af6.tmp_-H2rToK.tmp_.jpg
END:VEVENT
BEGIN:VEVENT
DTSTART;TZID=America/Los_Angeles:20240821T190000
DTEND;TZID=America/Los_Angeles:20240821T190000
DTSTAMP:20260423T195504
CREATED:20240812T194636Z
LAST-MODIFIED:20240812T194636Z
UID:10000684-1724266800-1724266800@garagekitchenbar.com
SUMMARY:Shout! Entertainers: Jeff\, Martha\, Courtney
DESCRIPTION:Doors 7pm\, Pianos 8pm \nTABLE RESERVATIONS
URL:https://garagekitchenbar.com/event/shout-entertainers-jeff-martha-courtney/
LOCATION:The Shout! House\, 655 4th Ave\, San Diego\, CA\, 92101\, United States
ATTACH;FMTTYPE=image/jpeg:https://garagekitchenbar.com/wp-content/uploads/2023/07/ShoutHouse-042-y1J7F7.tmp_.jpg
END:VEVENT
BEGIN:VEVENT
DTSTART;TZID=America/Los_Angeles:20240820T190000
DTEND;TZID=America/Los_Angeles:20240820T190000
DTSTAMP:20260423T195504
CREATED:20240812T194635Z
LAST-MODIFIED:20240812T194635Z
UID:10000683-1724180400-1724180400@garagekitchenbar.com
SUMMARY:Shout! Entertainers: Jon\, Eric\, James
DESCRIPTION:Doors 7pm\, Pianos 8pm \nTABLE RESERVATIONS
URL:https://garagekitchenbar.com/event/shout-entertainers-jon-eric-james/
LOCATION:The Shout! House\, 655 4th Ave\, San Diego\, CA\, 92101\, United States
ATTACH;FMTTYPE=image/jpeg:https://garagekitchenbar.com/wp-content/uploads/2023/08/ShoutHouse-060-SKTORR.tmp_-XmRlHv.tmp_-Cao2Ln.tmp_.jpg
END:VEVENT
BEGIN:VEVENT
DTSTART;TZID=America/Los_Angeles:20240818T190000
DTEND;TZID=America/Los_Angeles:20240818T190000
DTSTAMP:20260423T195504
CREATED:20240812T194634Z
LAST-MODIFIED:20240812T194634Z
UID:10000681-1724007600-1724007600@garagekitchenbar.com
SUMMARY:Shout! Entertainers: Jeff\, Dave\, Tom
DESCRIPTION:Doors 7pm\, Pianos 8pm \nTABLE RESERVATIONS
URL:https://garagekitchenbar.com/event/shout-entertainers-jeff-dave-tom-3/
LOCATION:The Shout! House\, 655 4th Ave\, San Diego\, CA\, 92101\, United States
ATTACH;FMTTYPE=image/jpeg:https://garagekitchenbar.com/wp-content/uploads/2023/08/ShoutHouse-015-6yN08S.tmp_-C0z9qm.tmp_-xoXEDg.tmp_.jpg
END:VEVENT
BEGIN:VEVENT
DTSTART;TZID=America/Los_Angeles:20240817T180000
DTEND;TZID=America/Los_Angeles:20240817T180000
DTSTAMP:20260423T195504
CREATED:20240812T194633Z
LAST-MODIFIED:20240812T194633Z
UID:10000680-1723917600-1723917600@garagekitchenbar.com
SUMMARY:Shout! Entertainers: Jon\, Courtney\, James\, Eric\, Martha
DESCRIPTION:Doors 6pm\, Pianos 6:30pm \nTABLE RESERVATIONS
URL:https://garagekitchenbar.com/event/shout-entertainers-jon-courtney-james-eric-martha/
LOCATION:The Shout! House\, 655 4th Ave\, San Diego\, CA\, 92101\, United States
ATTACH;FMTTYPE=image/jpeg:https://garagekitchenbar.com/wp-content/uploads/2023/08/ShoutHouse-042-y1J7F7.tmp_-2Xgqrj.tmp_-T91vU6.tmp_.jpg
END:VEVENT
BEGIN:VEVENT
DTSTART;TZID=America/Los_Angeles:20240816T180000
DTEND;TZID=America/Los_Angeles:20240816T180000
DTSTAMP:20260423T195504
CREATED:20240812T194631Z
LAST-MODIFIED:20240812T194631Z
UID:10000679-1723831200-1723831200@garagekitchenbar.com
SUMMARY:Shout Entertainers: Tom\, Jeff\, Eric\, Dave\, Jon
DESCRIPTION:Doors 6pm\, Pianos 6:30pm \nTABLE RESERVATIONS
URL:https://garagekitchenbar.com/event/shout-entertainers-tom-jeff-eric-dave-jon/
LOCATION:The Shout! House\, 655 4th Ave\, San Diego\, CA\, 92101\, United States
ATTACH;FMTTYPE=image/jpeg:https://garagekitchenbar.com/wp-content/uploads/2024/07/Untitled-1-18-Large-ClwChA.tmp_.jpg
END:VEVENT
BEGIN:VEVENT
DTSTART;TZID=America/Los_Angeles:20240815T190000
DTEND;TZID=America/Los_Angeles:20240815T190000
DTSTAMP:20260423T195504
CREATED:20240812T194630Z
LAST-MODIFIED:20240812T194630Z
UID:10000678-1723748400-1723748400@garagekitchenbar.com
SUMMARY:Shout! Entertainers: Jeff\, Dave\, Jon
DESCRIPTION:Doors 7pm\, Pianos 8pm \nTABLE RESERVATIONS
URL:https://garagekitchenbar.com/event/shout-entertainers-jeff-dave-jon/
LOCATION:The Shout! House\, 655 4th Ave\, San Diego\, CA\, 92101\, United States
ATTACH;FMTTYPE=image/jpeg:https://garagekitchenbar.com/wp-content/uploads/2023/08/ShoutHouse-022-vsFi1T.tmp_-e44DPo.tmp_-arFu1l.tmp_.jpg
END:VEVENT
BEGIN:VEVENT
DTSTART;TZID=America/Los_Angeles:20240814T190000
DTEND;TZID=America/Los_Angeles:20240814T190000
DTSTAMP:20260423T195504
CREATED:20240812T194629Z
LAST-MODIFIED:20240812T194629Z
UID:10000677-1723662000-1723662000@garagekitchenbar.com
SUMMARY:Shout! Entertainers: Eric\, Martha\, James
DESCRIPTION:Doors 7pm\, Pianos 8pm \nTABLE RESERVATIONS
URL:https://garagekitchenbar.com/event/shout-entertainers-eric-martha-james-2/
LOCATION:The Shout! House\, 655 4th Ave\, San Diego\, CA\, 92101\, United States
ATTACH;FMTTYPE=image/jpeg:https://garagekitchenbar.com/wp-content/uploads/2023/08/ShoutHouse-060-SKTORR.tmp_-XmRlHv.tmp_-Cao2Ln.tmp_.jpg
END:VEVENT
BEGIN:VEVENT
DTSTART;TZID=America/Los_Angeles:20240813T190000
DTEND;TZID=America/Los_Angeles:20240813T190000
DTSTAMP:20260423T195504
CREATED:20240812T194629Z
LAST-MODIFIED:20240812T194629Z
UID:10000676-1723575600-1723575600@garagekitchenbar.com
SUMMARY:Shout! Entertainers: Jon\, Jeff\, Courtney
DESCRIPTION:Doors 7pm\, Pianos 8pm \nTABLE RESERVATIONS
URL:https://garagekitchenbar.com/event/shout-entertainers-jon-jeff-courtney/
LOCATION:The Shout! House\, 655 4th Ave\, San Diego\, CA\, 92101\, United States
ATTACH;FMTTYPE=image/jpeg:https://garagekitchenbar.com/wp-content/uploads/2023/08/ShoutHouse-050-1-QcBec3.tmp_-sRow3O.tmp_-S2Z1y1.tmp_.jpg
END:VEVENT
BEGIN:VEVENT
DTSTART;TZID=America/Los_Angeles:20240804T190000
DTEND;TZID=America/Los_Angeles:20240804T190000
DTSTAMP:20260423T195504
CREATED:20240710T010834Z
LAST-MODIFIED:20240710T010834Z
UID:10000673-1722798000-1722798000@garagekitchenbar.com
SUMMARY:Shout Entertainers: Courtney\, Jon\, Dave
DESCRIPTION:Doors 7pm\, Pianos 8pm \nTABLE RESERVATIONS
URL:https://garagekitchenbar.com/event/shout-entertainers-courtney-jon-dave-2/
LOCATION:The Shout! House\, 655 4th Ave\, San Diego\, CA\, 92101\, United States
ATTACH;FMTTYPE=image/jpeg:https://garagekitchenbar.com/wp-content/uploads/2023/08/ShoutHouse-015-1-VShQpL.tmp_-v46SLi.tmp_-aCWAPW.tmp_.jpg
END:VEVENT
BEGIN:VEVENT
DTSTART;TZID=America/Los_Angeles:20240803T180000
DTEND;TZID=America/Los_Angeles:20240803T180000
DTSTAMP:20260423T195504
CREATED:20240710T010834Z
LAST-MODIFIED:20240710T010834Z
UID:10000672-1722708000-1722708000@garagekitchenbar.com
SUMMARY:Shout Entertainers: Jon\, Martha\, Eric\, Courtney\, Dave + Horn Section
DESCRIPTION:Doors 6pm\, Pianos 6:30pm\nGuest Performance by The Shout! House horn section “The Horny Boys” \nTABLE RESERVATIONS
URL:https://garagekitchenbar.com/event/shout-entertainers-jon-martha-eric-courtney-dave-horn-section/
LOCATION:The Shout! House\, 655 4th Ave\, San Diego\, CA\, 92101\, United States
ATTACH;FMTTYPE=image/jpeg:https://garagekitchenbar.com/wp-content/uploads/2024/04/Horn-Section-scaled-rbNHfH.tmp_.jpg
END:VEVENT
BEGIN:VEVENT
DTSTART;TZID=America/Los_Angeles:20240802T180000
DTEND;TZID=America/Los_Angeles:20240802T180000
DTSTAMP:20260423T195504
CREATED:20240710T010834Z
LAST-MODIFIED:20240710T010834Z
UID:10000671-1722621600-1722621600@garagekitchenbar.com
SUMMARY:Shout Entertainers: Tom\, Jeff\, Jon\, Martha
DESCRIPTION:Doors 6pm\, Pianos 6:30pm \nTABLE RESERVATIONS
URL:https://garagekitchenbar.com/event/shout-entertainers-tom-jeff-jon-martha/
LOCATION:The Shout! House\, 655 4th Ave\, San Diego\, CA\, 92101\, United States
ATTACH;FMTTYPE=image/jpeg:https://garagekitchenbar.com/wp-content/uploads/2024/07/Untitled-1-18-Large-ClwChA.tmp_.jpg
END:VEVENT
BEGIN:VEVENT
DTSTART;TZID=America/Los_Angeles:20240801T190000
DTEND;TZID=America/Los_Angeles:20240801T190000
DTSTAMP:20260423T195504
CREATED:20240710T010833Z
LAST-MODIFIED:20240710T010833Z
UID:10000670-1722538800-1722538800@garagekitchenbar.com
SUMMARY:Shout Entertainers: Eric\, James\, Courtney
DESCRIPTION:Doors 7pm\, Pianos 8pm \nTABLE RESERVATIONS
URL:https://garagekitchenbar.com/event/shout-entertainers-eric-james-courtney-3/
LOCATION:The Shout! House\, 655 4th Ave\, San Diego\, CA\, 92101\, United States
ATTACH;FMTTYPE=image/jpeg:https://garagekitchenbar.com/wp-content/uploads/2023/08/ShoutHouse-058-dO5KJd.tmp_-uEA4iu.tmp_-PpEmvJ.tmp_.jpg
END:VEVENT
BEGIN:VEVENT
DTSTART;TZID=America/Los_Angeles:20240731T190000
DTEND;TZID=America/Los_Angeles:20240731T190000
DTSTAMP:20260423T195504
CREATED:20240710T010833Z
LAST-MODIFIED:20240710T010833Z
UID:10000669-1722452400-1722452400@garagekitchenbar.com
SUMMARY:Shout Entertainers: Eric\, Jon\, Jeff
DESCRIPTION:Doors 7pm\, Pianos 8pm \nTABLE RESERVATIONS
URL:https://garagekitchenbar.com/event/shout-entertainers-eric-jon-jeff/
LOCATION:The Shout! House\, 655 4th Ave\, San Diego\, CA\, 92101\, United States
ATTACH;FMTTYPE=image/jpeg:https://garagekitchenbar.com/wp-content/uploads/2023/08/ShoutHouse-018-cvFDG0.tmp_-Wz6Af6.tmp_-H2rToK.tmp_.jpg
END:VEVENT
BEGIN:VEVENT
DTSTART;TZID=America/Los_Angeles:20240730T190000
DTEND;TZID=America/Los_Angeles:20240730T190000
DTSTAMP:20260423T195504
CREATED:20240710T010833Z
LAST-MODIFIED:20240710T010833Z
UID:10000668-1722366000-1722366000@garagekitchenbar.com
SUMMARY:Shout Entertainers: James\, Dave\, Martha
DESCRIPTION:Doors 7pm\, Pianos 8pm \nTABLE RESERVATIONS
URL:https://garagekitchenbar.com/event/shout-entertainers-james-dave-martha-2/
LOCATION:The Shout! House\, 655 4th Ave\, San Diego\, CA\, 92101\, United States
ATTACH;FMTTYPE=image/jpeg:https://garagekitchenbar.com/wp-content/uploads/2023/08/ShoutHouse-015-1-VShQpL.tmp_-v46SLi.tmp_-aCWAPW.tmp_.jpg
END:VEVENT
BEGIN:VEVENT
DTSTART;TZID=America/Los_Angeles:20240728T190000
DTEND;TZID=America/Los_Angeles:20240728T190000
DTSTAMP:20260423T195504
CREATED:20240710T010832Z
LAST-MODIFIED:20240710T010832Z
UID:10000666-1722193200-1722193200@garagekitchenbar.com
SUMMARY:Dueling Piano Con 2024 – Shout Entertainers: Jon\, Tom\, Jeff
DESCRIPTION:The Shout! House Dueling Piano Bar presents Dueling Piano Con 2024!\nWHEN: Sunday 7/28 – Doors 7pm\, Pianos 8pm\nWHERE: The Shout! House Dueling Piano Bar – 655 4th Ave\, Gaslamp Quarter (walking distant from the convention center)\nPIANO PLAYERS: Jon\, Tom\, Jeff \nJoin us for an electrifying weekend as we present Dueling Piano Con 2024\, happening during Comic-Con! Whether you’re winding down after the convention or coming downtown to soak in the vibrant atmosphere\, Dueling Piano Con promises a fun-filled evening. \nGet ready for non-stop entertainment with our dynamic dueling pianists\, who will take your song requests and keep the energy high all weekend long. Expect a blend of pop\, rock\, and classic hits that will have you singing along. \nCome in your favorite cosplay\, or just come as you are\, and be part of a unique musical night that celebrates the creativity and excitement of Comic-Con. With fun cocktails\, delicious food\, and an electric atmosphere\, The Shout! House is the place to be. \nDon’t miss out on this unforgettable weekend of music\, fun\, and Comic-Con excitement. See you at The Shout! House! \nTable Reservations are recommended for guaranteed seating. Walk-ins welcome! \nTABLE RESERVATIONS
URL:https://garagekitchenbar.com/event/dueling-piano-con-2024-shout-entertainers-jon-tom-jeff/
LOCATION:The Shout! House\, 655 4th Ave\, San Diego\, CA\, 92101\, United States
ATTACH;FMTTYPE=image/jpeg:https://garagekitchenbar.com/wp-content/uploads/2024/07/Piano-Con-2024-1-mtbT38.tmp_.jpg
END:VEVENT
BEGIN:VEVENT
DTSTART;TZID=America/Los_Angeles:20240727T180000
DTEND;TZID=America/Los_Angeles:20240727T180000
DTSTAMP:20260423T195504
CREATED:20240710T010820Z
LAST-MODIFIED:20240710T010820Z
UID:10000664-1722103200-1722103200@garagekitchenbar.com
SUMMARY:Dueling Piano Con 2024 – Shout Entertainers: James\, Jeff\, Courtney\, Eric\, Dave
DESCRIPTION:The Shout! House Dueling Piano Bar presents Dueling Piano Con 2024!\nWHEN: Saturday 7/27 – Doors 6pm\, Pianos 6:30pm\nWHERE: The Shout! House Dueling Piano Bar – 655 4th Ave\, Gaslamp Quarter (walking distant from the convention center)\nPIANO PLAYERS: James\, Jeff\, Courtney\, Eric\, Dave\nGUEST PERFORMANCE: Fiddle Player Melissa Barrison \nJoin us for an electrifying weekend as we present Dueling Piano Con 2024\, happening during Comic-Con! Whether you’re winding down after the convention or coming downtown to soak in the vibrant atmosphere\, Dueling Piano Con promises a fun-filled evening. \nGet ready for non-stop entertainment with our dynamic dueling pianists\, who will take your song requests and keep the energy high all weekend long. Expect a blend of pop\, rock\, and classic hits that will have you singing along. \nCome in your favorite cosplay\, or just come as you are\, and be part of a unique musical night that celebrates the creativity and excitement of Comic-Con. With fun cocktails\, delicious food\, and an electric atmosphere\, The Shout! House is the place to be. \nDon’t miss out on this unforgettable weekend of music\, fun\, and Comic-Con excitement. See you at The Shout! House! \nTable Reservations are recommended for guaranteed seating. Walk-ins welcome! \nTABLE RESERVATIONS
URL:https://garagekitchenbar.com/event/dueling-piano-con-2024-shout-entertainers-james-jeff-courtney-eric-dave/
LOCATION:The Shout! House\, 655 4th Ave\, San Diego\, CA\, 92101\, United States
ATTACH;FMTTYPE=image/jpeg:https://garagekitchenbar.com/wp-content/uploads/2024/07/SH-Comic-Con-Melissa-ndQ2TI.tmp_.jpg
END:VEVENT
BEGIN:VEVENT
DTSTART;TZID=America/Los_Angeles:20240726T180000
DTEND;TZID=America/Los_Angeles:20240726T180000
DTSTAMP:20260423T195504
CREATED:20240710T010820Z
LAST-MODIFIED:20240710T010820Z
UID:10000662-1722016800-1722016800@garagekitchenbar.com
SUMMARY:Dueling Piano Con 2024 – Shout Entertainers: Jeff\, Dave\, James\, Eric\, Courtney
DESCRIPTION:The Shout! House Dueling Piano Bar presents Dueling Piano Con 2024!\nWHEN: Friday 7/26 – Doors 6pm\, Pianos 6:30pm\nWHERE: The Shout! House Dueling Piano Bar – 655 4th Ave\, Gaslamp Quarter (walking distant from the convention center)\nHAPPY HOUR: 10-11pm – 1/2 OFF Domestic Bottles & Seltzers & 1/2 OFF Cover for Walk-Ins\nPIANO PLAYERS: Jeff\, Dave\, James\, Eric\, Courtney \nJoin us for an electrifying weekend as we present Dueling Piano Con 2024\, happening during Comic-Con! Whether you’re winding down after the convention or coming downtown to soak in the vibrant atmosphere\, Dueling Piano Con promises a fun-filled evening. \nGet ready for non-stop entertainment with our dynamic dueling pianists\, who will take your song requests and keep the energy high all weekend long. Expect a blend of pop\, rock\, and classic hits that will have you singing along. \nCome in your favorite cosplay\, or just come as you are\, and be part of a unique musical night that celebrates the creativity and excitement of Comic-Con. With fun cocktails\, delicious food\, and an electric atmosphere\, The Shout! House is the place to be. \nDon’t miss out on this unforgettable weekend of music\, fun\, and Comic-Con excitement. See you at The Shout! House! \nTable Reservations are recommended for guaranteed seating. Walk-ins welcome! \nTABLE RESERVATIONS
URL:https://garagekitchenbar.com/event/dueling-piano-con-2024-shout-entertainers-jeff-dave-james-eric-courtney/
LOCATION:The Shout! House\, 655 4th Ave\, San Diego\, CA\, 92101\, United States
ATTACH;FMTTYPE=image/jpeg:https://garagekitchenbar.com/wp-content/uploads/2024/07/Piano-Con-2024-1-mtbT38.tmp_.jpg
END:VEVENT
BEGIN:VEVENT
DTSTART;TZID=America/Los_Angeles:20240725T190000
DTEND;TZID=America/Los_Angeles:20240725T190000
DTSTAMP:20260423T195504
CREATED:20240710T010807Z
LAST-MODIFIED:20240710T010807Z
UID:10000660-1721934000-1721934000@garagekitchenbar.com
SUMMARY:Dueling Piano Con 2024 – Shout Entertainers – Tom\, Jeff Jon
DESCRIPTION:The Shout! House Dueling Piano Bar presents Dueling Piano Con 2024!\nWHEN: Thursday 7/25 – Doors 7pm\, Pianos 8pm\nWHERE: The Shout! House Dueling Piano Bar – 655 4th Ave\, Gaslamp Quarter (walking distant from the convention center)\nPIANO PLAYERS: Tom\, Jeff Jon \nJoin us for an electrifying weekend as we present Dueling Piano Con 2024\, happening during Comic-Con! Whether you’re winding down after the convention or coming downtown to soak in the vibrant atmosphere\, Dueling Piano Con promises a fun-filled evening. \nGet ready for non-stop entertainment with our dynamic dueling pianists\, who will take your song requests and keep the energy high all weekend long. Expect a blend of pop\, rock\, and classic hits that will have you singing along. \nCome in your favorite cosplay\, or just come as you are\, and be part of a unique musical night that celebrates the creativity and excitement of Comic-Con. With fun cocktails\, delicious food\, and an electric atmosphere\, The Shout! House is the place to be. \nDon’t miss out on this unforgettable weekend of music\, fun\, and Comic-Con excitement. See you at The Shout! House! \nTable Reservations are recommended for guaranteed seating. Walk-ins welcome! \nTABLE RESERVATIONS
URL:https://garagekitchenbar.com/event/dueling-piano-con-2024-shout-entertainers-tom-jeff-jon/
LOCATION:The Shout! House\, 655 4th Ave\, San Diego\, CA\, 92101\, United States
ATTACH;FMTTYPE=image/jpeg:https://garagekitchenbar.com/wp-content/uploads/2024/07/Piano-Con-2024-1-mtbT38.tmp_.jpg
END:VEVENT
BEGIN:VEVENT
DTSTART;TZID=America/Los_Angeles:20240724T190000
DTEND;TZID=America/Los_Angeles:20240724T190000
DTSTAMP:20260423T195504
CREATED:20240710T010807Z
LAST-MODIFIED:20240710T010807Z
UID:10000658-1721847600-1721847600@garagekitchenbar.com
SUMMARY:Shout Entertainers: James\, Martha\, Jon
DESCRIPTION:Doors 7pm\, Pianos 8pm \nTABLE RESERVATIONS
URL:https://garagekitchenbar.com/event/shout-entertainers-james-martha-jon/
LOCATION:The Shout! House\, 655 4th Ave\, San Diego\, CA\, 92101\, United States
ATTACH;FMTTYPE=image/jpeg:https://garagekitchenbar.com/wp-content/uploads/2023/08/ShoutHouse-042-y1J7F7.tmp_-2Xgqrj.tmp_-T91vU6.tmp_.jpg
END:VEVENT
BEGIN:VEVENT
DTSTART;TZID=America/Los_Angeles:20240723T190000
DTEND;TZID=America/Los_Angeles:20240723T190000
DTSTAMP:20260423T195504
CREATED:20240710T010754Z
LAST-MODIFIED:20240710T010754Z
UID:10000656-1721761200-1721761200@garagekitchenbar.com
SUMMARY:Shout Entertainers: Courtney\, Dave\, Eric
DESCRIPTION:Doors 7pm\, Pianos 8pm \nTABLE RESERVATIONS
URL:https://garagekitchenbar.com/event/shout-entertainers-courtney-dave-eric/
LOCATION:The Shout! House\, 655 4th Ave\, San Diego\, CA\, 92101\, United States
ATTACH;FMTTYPE=image/jpeg:https://garagekitchenbar.com/wp-content/uploads/2023/11/ShoutHouse-060-1-I64t24.tmp_.jpg
END:VEVENT
END:VCALENDAR