BEGIN:VCALENDAR
VERSION:2.0
PRODID:-//Garage Kitchen + Bar | San Diego Bar - ECPv6.15.20//NONSGML v1.0//EN
CALSCALE:GREGORIAN
METHOD:PUBLISH
X-WR-CALNAME:Garage Kitchen + Bar | San Diego Bar
X-ORIGINAL-URL:https://garagekitchenbar.com
X-WR-CALDESC:Events for Garage Kitchen + Bar | San Diego Bar
REFRESH-INTERVAL;VALUE=DURATION:PT1H
X-Robots-Tag:noindex
X-PUBLISHED-TTL:PT1H
BEGIN:VTIMEZONE
TZID:America/Los_Angeles
BEGIN:DAYLIGHT
TZOFFSETFROM:-0800
TZOFFSETTO:-0700
TZNAME:PDT
DTSTART:20230312T100000
END:DAYLIGHT
BEGIN:STANDARD
TZOFFSETFROM:-0700
TZOFFSETTO:-0800
TZNAME:PST
DTSTART:20231105T090000
END:STANDARD
BEGIN:DAYLIGHT
TZOFFSETFROM:-0800
TZOFFSETTO:-0700
TZNAME:PDT
DTSTART:20240310T100000
END:DAYLIGHT
BEGIN:STANDARD
TZOFFSETFROM:-0700
TZOFFSETTO:-0800
TZNAME:PST
DTSTART:20241103T090000
END:STANDARD
BEGIN:DAYLIGHT
TZOFFSETFROM:-0800
TZOFFSETTO:-0700
TZNAME:PDT
DTSTART:20250309T100000
END:DAYLIGHT
BEGIN:STANDARD
TZOFFSETFROM:-0700
TZOFFSETTO:-0800
TZNAME:PST
DTSTART:20251102T090000
END:STANDARD
END:VTIMEZONE
BEGIN:VEVENT
DTSTART;TZID=America/Los_Angeles:20240924T190000
DTEND;TZID=America/Los_Angeles:20240924T190000
DTSTAMP:20260420T051959
CREATED:20240917T222855Z
LAST-MODIFIED:20240917T222855Z
UID:10000726-1727204400-1727204400@garagekitchenbar.com
SUMMARY:Shout Entertainers: Eric\, Martha\, Jeff
DESCRIPTION:Doors 7pm\, Pianos 8pm \nTABLE RESERVATIONS
URL:https://garagekitchenbar.com/event/shout-entertainers-eric-martha-jeff/
LOCATION:The Shout! House\, 655 4th Ave\, San Diego\, CA\, 92101\, United States
ATTACH;FMTTYPE=image/jpeg:https://garagekitchenbar.com/wp-content/uploads/2023/10/ShoutHouse-050-FGOvpV.tmp_-TWKFbt.tmp_-T1HEBQ.tmp_.jpg
END:VEVENT
BEGIN:VEVENT
DTSTART;TZID=America/Los_Angeles:20240925T190000
DTEND;TZID=America/Los_Angeles:20240925T190000
DTSTAMP:20260420T051959
CREATED:20240917T222855Z
LAST-MODIFIED:20240917T222855Z
UID:10000727-1727290800-1727290800@garagekitchenbar.com
SUMMARY:Shout Entertainers: James\, Jon\, Dave
DESCRIPTION:Doors 7pm\, Pianos 8pm \nTABLE RESERVATIONS
URL:https://garagekitchenbar.com/event/shout-entertainers-james-jon-dave-2/
LOCATION:The Shout! House\, 655 4th Ave\, San Diego\, CA\, 92101\, United States
ATTACH;FMTTYPE=image/jpeg:https://garagekitchenbar.com/wp-content/uploads/2024/09/ShoutHouse-058-b26Bn6.tmp_.jpg
END:VEVENT
BEGIN:VEVENT
DTSTART;TZID=America/Los_Angeles:20240926T190000
DTEND;TZID=America/Los_Angeles:20240926T190000
DTSTAMP:20260420T051959
CREATED:20240917T222902Z
LAST-MODIFIED:20240917T222902Z
UID:10000728-1727377200-1727377200@garagekitchenbar.com
SUMMARY:Shout Entertainers: Courtney\, Eric\, Dave
DESCRIPTION:Doors 7pm\, Pianos 8pm \nTABLE RESERVATIONS
URL:https://garagekitchenbar.com/event/shout-entertainers-courtney-eric-dave/
LOCATION:The Shout! House\, 655 4th Ave\, San Diego\, CA\, 92101\, United States
ATTACH;FMTTYPE=image/jpeg:https://garagekitchenbar.com/wp-content/uploads/2023/07/ShoutHouse-022-vsFi1T.tmp_.jpg
END:VEVENT
BEGIN:VEVENT
DTSTART;TZID=America/Los_Angeles:20240927T180000
DTEND;TZID=America/Los_Angeles:20240927T180000
DTSTAMP:20260420T051959
CREATED:20240917T222902Z
LAST-MODIFIED:20240917T222902Z
UID:10000729-1727460000-1727460000@garagekitchenbar.com
SUMMARY:Shout Entertainers: Tom\, Martha\, Jon\, Courtney\, James
DESCRIPTION:Doors 6pm\, Pianos 6:30pm \nTABLE RESERVATIONS
URL:https://garagekitchenbar.com/event/shout-entertainers-tom-martha-jon-courtney-james/
LOCATION:The Shout! House\, 655 4th Ave\, San Diego\, CA\, 92101\, United States
ATTACH;FMTTYPE=image/jpeg:https://garagekitchenbar.com/wp-content/uploads/2024/07/Untitled-1-18-Large-ClwChA.tmp_.jpg
END:VEVENT
BEGIN:VEVENT
DTSTART;TZID=America/Los_Angeles:20240928T180000
DTEND;TZID=America/Los_Angeles:20240928T180000
DTSTAMP:20260420T051959
CREATED:20240829T232650Z
LAST-MODIFIED:20240917T222903Z
UID:10000717-1727546400-1727546400@garagekitchenbar.com
SUMMARY:Guest Performance by Fiddle Player Melissa Barrison
DESCRIPTION:Doors 6pm\, Pianos 6:30pm \nPiano Players: Jon\, Jeff\, Eric\, Martha\, Dave\nGuest Performance by Fiddle Player Melissa Barrison. \nTABLE RESERVATIONS
URL:https://garagekitchenbar.com/event/guest-performance-by-fiddle-player-melissa-barrison/
LOCATION:The Shout! House\, 655 4th Ave\, San Diego\, CA\, 92101\, United States
ATTACH;FMTTYPE=image/jpeg:https://garagekitchenbar.com/wp-content/uploads/2024/04/Fiddle-Player-Melissa2-scaled-YkjSJl.tmp_.jpg
END:VEVENT
BEGIN:VEVENT
DTSTART;TZID=America/Los_Angeles:20240929T190000
DTEND;TZID=America/Los_Angeles:20240929T190000
DTSTAMP:20260420T051959
CREATED:20240917T222903Z
LAST-MODIFIED:20240917T222903Z
UID:10000730-1727636400-1727636400@garagekitchenbar.com
SUMMARY:Shout Entertainers: Jeff\, Courtney\, James
DESCRIPTION:Doors 7pm\, Pianos 8pm \nTABLE RESERVATIONS
URL:https://garagekitchenbar.com/event/shout-entertainers-jeff-courtney-james/
LOCATION:The Shout! House\, 655 4th Ave\, San Diego\, CA\, 92101\, United States
ATTACH;FMTTYPE=image/jpeg:https://garagekitchenbar.com/wp-content/uploads/2023/11/ShoutHouse-054-1-W7VwPz.tmp_.jpg
END:VEVENT
END:VCALENDAR