BEGIN:VCALENDAR
VERSION:2.0
PRODID:-//Garage Kitchen + Bar | San Diego Bar - ECPv6.15.20//NONSGML v1.0//EN
CALSCALE:GREGORIAN
METHOD:PUBLISH
X-ORIGINAL-URL:https://garagekitchenbar.com
X-WR-CALDESC:Events for Garage Kitchen + Bar | San Diego Bar
REFRESH-INTERVAL;VALUE=DURATION:PT1H
X-Robots-Tag:noindex
X-PUBLISHED-TTL:PT1H
BEGIN:VTIMEZONE
TZID:America/Los_Angeles
BEGIN:DAYLIGHT
TZOFFSETFROM:-0800
TZOFFSETTO:-0700
TZNAME:PDT
DTSTART:20230312T100000
END:DAYLIGHT
BEGIN:STANDARD
TZOFFSETFROM:-0700
TZOFFSETTO:-0800
TZNAME:PST
DTSTART:20231105T090000
END:STANDARD
BEGIN:DAYLIGHT
TZOFFSETFROM:-0800
TZOFFSETTO:-0700
TZNAME:PDT
DTSTART:20240310T100000
END:DAYLIGHT
BEGIN:STANDARD
TZOFFSETFROM:-0700
TZOFFSETTO:-0800
TZNAME:PST
DTSTART:20241103T090000
END:STANDARD
BEGIN:DAYLIGHT
TZOFFSETFROM:-0800
TZOFFSETTO:-0700
TZNAME:PDT
DTSTART:20250309T100000
END:DAYLIGHT
BEGIN:STANDARD
TZOFFSETFROM:-0700
TZOFFSETTO:-0800
TZNAME:PST
DTSTART:20251102T090000
END:STANDARD
END:VTIMEZONE
BEGIN:VEVENT
DTSTART;TZID=America/Los_Angeles:20240917T190000
DTEND;TZID=America/Los_Angeles:20240917T190000
DTSTAMP:20260420T004035
CREATED:20240917T222852Z
LAST-MODIFIED:20240917T222852Z
UID:10000720-1726599600-1726599600@garagekitchenbar.com
SUMMARY:Shout Entertainers: Eric\, Jeff\, Dave
DESCRIPTION:Doors 7pm\, Pianos 8pm \nTABLE RESERVATIONS
URL:https://garagekitchenbar.com/event/shout-entertainers-eric-jeff-dave-2/
LOCATION:The Shout! House\, 655 4th Ave\, San Diego\, CA\, 92101\, United States
ATTACH;FMTTYPE=image/jpeg:https://garagekitchenbar.com/wp-content/uploads/2023/08/ShoutHouse-022-vsFi1T.tmp_-e44DPo.tmp_-arFu1l.tmp_.jpg
END:VEVENT
BEGIN:VEVENT
DTSTART;TZID=America/Los_Angeles:20240918T190000
DTEND;TZID=America/Los_Angeles:20240918T190000
DTSTAMP:20260420T004035
CREATED:20240917T222853Z
LAST-MODIFIED:20240917T222853Z
UID:10000721-1726686000-1726686000@garagekitchenbar.com
SUMMARY:Shout Entertainers: Jon\, Courtney\, James
DESCRIPTION:Doors 7pm\, Pianos 8pm \nTABLE RESERVATIONS
URL:https://garagekitchenbar.com/event/shout-entertainers-jon-courtney-james/
LOCATION:The Shout! House\, 655 4th Ave\, San Diego\, CA\, 92101\, United States
ATTACH;FMTTYPE=image/jpeg:https://garagekitchenbar.com/wp-content/uploads/2024/02/ShoutHouse-061-GenDd9.tmp_.jpg
END:VEVENT
BEGIN:VEVENT
DTSTART;TZID=America/Los_Angeles:20240919T190000
DTEND;TZID=America/Los_Angeles:20240919T190000
DTSTAMP:20260420T004035
CREATED:20240917T222853Z
LAST-MODIFIED:20240917T222853Z
UID:10000722-1726772400-1726772400@garagekitchenbar.com
SUMMARY:Shout Entertainers: Dave\, Jon\, Martha
DESCRIPTION:Doors 7pm\, Pianos 8pm \nTABLE RESERVATIONS
URL:https://garagekitchenbar.com/event/shout-entertainers-dave-jon-martha-2/
LOCATION:The Shout! House\, 655 4th Ave\, San Diego\, CA\, 92101\, United States
ATTACH;FMTTYPE=image/jpeg:https://garagekitchenbar.com/wp-content/uploads/2023/07/ShoutHouse-050-1-9HYFGU.tmp_.jpg
END:VEVENT
BEGIN:VEVENT
DTSTART;TZID=America/Los_Angeles:20240920T180000
DTEND;TZID=America/Los_Angeles:20240920T180000
DTSTAMP:20260420T004035
CREATED:20240917T222853Z
LAST-MODIFIED:20240917T222853Z
UID:10000723-1726855200-1726855200@garagekitchenbar.com
SUMMARY:Shout Entertainers: Eric\, Martha\, James\, Dave\, Courtney
DESCRIPTION:Doors 6pm\, Pianos 6:30pm \nTABLE RESERVATIONS
URL:https://garagekitchenbar.com/event/shout-entertainers-eric-martha-james-dave-courtney/
LOCATION:The Shout! House\, 655 4th Ave\, San Diego\, CA\, 92101\, United States
ATTACH;FMTTYPE=image/jpeg:https://garagekitchenbar.com/wp-content/uploads/2024/07/Untitled-1-18-Large-ClwChA.tmp_.jpg
END:VEVENT
BEGIN:VEVENT
DTSTART;TZID=America/Los_Angeles:20240921T180000
DTEND;TZID=America/Los_Angeles:20240921T180000
DTSTAMP:20260420T004035
CREATED:20240917T222854Z
LAST-MODIFIED:20240917T222854Z
UID:10000724-1726941600-1726941600@garagekitchenbar.com
SUMMARY:Shout Entertainers: Jon\, Courtney\, Eric\, James\, Jeff
DESCRIPTION:Doors 6pm\, Pianos 6:30pm \nTABLE RESERVATIONS
URL:https://garagekitchenbar.com/event/shout-entertainers-jon-courtney-eric-james-jeff/
LOCATION:The Shout! House\, 655 4th Ave\, San Diego\, CA\, 92101\, United States
ATTACH;FMTTYPE=image/jpeg:https://garagekitchenbar.com/wp-content/uploads/2023/07/ShoutHouse-050-1-9HYFGU.tmp_.jpg
END:VEVENT
BEGIN:VEVENT
DTSTART;TZID=America/Los_Angeles:20240922T190000
DTEND;TZID=America/Los_Angeles:20240922T190000
DTSTAMP:20260420T004035
CREATED:20240917T222854Z
LAST-MODIFIED:20240917T222854Z
UID:10000725-1727031600-1727031600@garagekitchenbar.com
SUMMARY:Shout Entertainers: Martha\, Jon\, Jeff
DESCRIPTION:Doors 7pm\, Pianos 8pm \nTABLE RESERVATIONS
URL:https://garagekitchenbar.com/event/shout-entertainers-martha-jon-jeff/
LOCATION:The Shout! House\, 655 4th Ave\, San Diego\, CA\, 92101\, United States
ATTACH;FMTTYPE=image/jpeg:https://garagekitchenbar.com/wp-content/uploads/2023/08/ShoutHouse-018-cvFDG0.tmp_-Wz6Af6.tmp_-H2rToK.tmp_.jpg
END:VEVENT
END:VCALENDAR