BEGIN:VCALENDAR
VERSION:2.0
PRODID:-//Garage Kitchen + Bar | San Diego Bar - ECPv6.15.20//NONSGML v1.0//EN
CALSCALE:GREGORIAN
METHOD:PUBLISH
X-WR-CALNAME:Garage Kitchen + Bar | San Diego Bar
X-ORIGINAL-URL:https://garagekitchenbar.com
X-WR-CALDESC:Events for Garage Kitchen + Bar | San Diego Bar
REFRESH-INTERVAL;VALUE=DURATION:PT1H
X-Robots-Tag:noindex
X-PUBLISHED-TTL:PT1H
BEGIN:VTIMEZONE
TZID:America/Los_Angeles
BEGIN:DAYLIGHT
TZOFFSETFROM:-0800
TZOFFSETTO:-0700
TZNAME:PDT
DTSTART:20230312T100000
END:DAYLIGHT
BEGIN:STANDARD
TZOFFSETFROM:-0700
TZOFFSETTO:-0800
TZNAME:PST
DTSTART:20231105T090000
END:STANDARD
BEGIN:DAYLIGHT
TZOFFSETFROM:-0800
TZOFFSETTO:-0700
TZNAME:PDT
DTSTART:20240310T100000
END:DAYLIGHT
BEGIN:STANDARD
TZOFFSETFROM:-0700
TZOFFSETTO:-0800
TZNAME:PST
DTSTART:20241103T090000
END:STANDARD
BEGIN:DAYLIGHT
TZOFFSETFROM:-0800
TZOFFSETTO:-0700
TZNAME:PDT
DTSTART:20250309T100000
END:DAYLIGHT
BEGIN:STANDARD
TZOFFSETFROM:-0700
TZOFFSETTO:-0800
TZNAME:PST
DTSTART:20251102T090000
END:STANDARD
END:VTIMEZONE
BEGIN:VEVENT
DTSTART;TZID=America/Los_Angeles:20240305T190000
DTEND;TZID=America/Los_Angeles:20240305T190000
DTSTAMP:20260422T165037
CREATED:20240222T233346Z
LAST-MODIFIED:20240222T233346Z
UID:10000521-1709665200-1709665200@garagekitchenbar.com
SUMMARY:Shout Entertainers: Tom\, Courtney\, Jeff
DESCRIPTION:Doors 7pm\, Pianos 8pm
URL:https://garagekitchenbar.com/event/shout-entertainers-tom-courtney-jeff/
LOCATION:The Shout! House\, 655 4th Ave\, San Diego\, CA\, 92101\, United States
ATTACH;FMTTYPE=image/jpeg:https://garagekitchenbar.com/wp-content/uploads/2024/02/ShoutHouse-050-eKkNQB.tmp_.jpg
END:VEVENT
BEGIN:VEVENT
DTSTART;TZID=America/Los_Angeles:20240306T190000
DTEND;TZID=America/Los_Angeles:20240306T190000
DTSTAMP:20260422T165037
CREATED:20240222T233348Z
LAST-MODIFIED:20240222T233348Z
UID:10000522-1709751600-1709751600@garagekitchenbar.com
SUMMARY:Shout Entertainers: Jon\, James\, Eric
DESCRIPTION:Doors 7pm\, Pianos 8pm
URL:https://garagekitchenbar.com/event/shout-entertainers-jon-james-eric/
LOCATION:CA
ATTACH;FMTTYPE=image/jpeg:https://garagekitchenbar.com/wp-content/uploads/2023/08/ShoutHouse-045-gk8vh2.tmp_-9nUls2.tmp_-17VR4m.tmp_.jpg
END:VEVENT
BEGIN:VEVENT
DTSTART;TZID=America/Los_Angeles:20240307T190000
DTEND;TZID=America/Los_Angeles:20240307T190000
DTSTAMP:20260422T165037
CREATED:20240222T233348Z
LAST-MODIFIED:20240222T233348Z
UID:10000523-1709838000-1709838000@garagekitchenbar.com
SUMMARY:Shout! Entertainers: Eric\, Jeff\, Martha
DESCRIPTION:
URL:https://garagekitchenbar.com/event/shout-entertainers-eric-jeff-martha-3/
LOCATION:The Shout! House\, 655 4th Ave\, San Diego\, CA\, 92101\, United States
ATTACH;FMTTYPE=image/jpeg:https://garagekitchenbar.com/wp-content/uploads/2024/02/ShoutHouse-061-GenDd9.tmp_.jpg
END:VEVENT
BEGIN:VEVENT
DTSTART;TZID=America/Los_Angeles:20240308T180000
DTEND;TZID=America/Los_Angeles:20240308T180000
DTSTAMP:20260422T165037
CREATED:20240222T233350Z
LAST-MODIFIED:20240222T233350Z
UID:10000524-1709920800-1709920800@garagekitchenbar.com
SUMMARY:Shout! Entertainers: Courtney\, Jon\, Martha\, Dave\, James
DESCRIPTION:Doors 6pm\, Pianos 6:30pm
URL:https://garagekitchenbar.com/event/shout-entertainers-courtney-jon-martha-dave-james/
LOCATION:The Shout! House\, 655 4th Ave\, San Diego\, CA\, 92101\, United States
ATTACH;FMTTYPE=image/jpeg:https://garagekitchenbar.com/wp-content/uploads/2023/11/SH-Friday-Happy-Hour-7QD2Bh.tmp_.jpg
END:VEVENT
BEGIN:VEVENT
DTSTART;TZID=America/Los_Angeles:20240309T180000
DTEND;TZID=America/Los_Angeles:20240309T180000
DTSTAMP:20260422T165037
CREATED:20240222T233350Z
LAST-MODIFIED:20240222T233350Z
UID:10000525-1710007200-1710007200@garagekitchenbar.com
SUMMARY:Shout! Entertainers: Eric\, Jeff\, Jon\, James\, Courtney + Horn Section
DESCRIPTION:Doors 6pm\, Pianos 6:30pm\nGuest Performance by The Shout! House Horn Section
URL:https://garagekitchenbar.com/event/shout-entertainers-eric-jeff-jon-james-courtney-horn-section/
LOCATION:The Shout! House\, 655 4th Ave\, San Diego\, CA\, 92101\, United States
ATTACH;FMTTYPE=image/jpeg:https://garagekitchenbar.com/wp-content/uploads/2024/01/Sh-Horn-Section-y9ELaZ.tmp_.jpg
END:VEVENT
BEGIN:VEVENT
DTSTART;TZID=America/Los_Angeles:20240310T190000
DTEND;TZID=America/Los_Angeles:20240310T190000
DTSTAMP:20260422T165037
CREATED:20240222T233350Z
LAST-MODIFIED:20240222T233350Z
UID:10000526-1710097200-1710097200@garagekitchenbar.com
SUMMARY:Shout! Entertainers: Dave\, Eric\, Martha
DESCRIPTION:Doors 7pm\, Pianos 8pm
URL:https://garagekitchenbar.com/event/shout-entertainers-dave-eric-martha/
LOCATION:The Shout! House\, 655 4th Ave\, San Diego\, CA\, 92101\, United States
ATTACH;FMTTYPE=image/jpeg:https://garagekitchenbar.com/wp-content/uploads/2023/08/ShoutHouse-042-y1J7F7.tmp_-2Xgqrj.tmp_-T91vU6.tmp_.jpg
END:VEVENT
END:VCALENDAR