BEGIN:VCALENDAR
VERSION:2.0
PRODID:-//Garage Kitchen + Bar | San Diego Bar - ECPv6.15.20//NONSGML v1.0//EN
CALSCALE:GREGORIAN
METHOD:PUBLISH
X-ORIGINAL-URL:https://garagekitchenbar.com
X-WR-CALDESC:Events for Garage Kitchen + Bar | San Diego Bar
REFRESH-INTERVAL;VALUE=DURATION:PT1H
X-Robots-Tag:noindex
X-PUBLISHED-TTL:PT1H
BEGIN:VTIMEZONE
TZID:America/Los_Angeles
BEGIN:DAYLIGHT
TZOFFSETFROM:-0800
TZOFFSETTO:-0700
TZNAME:PDT
DTSTART:20230312T100000
END:DAYLIGHT
BEGIN:STANDARD
TZOFFSETFROM:-0700
TZOFFSETTO:-0800
TZNAME:PST
DTSTART:20231105T090000
END:STANDARD
BEGIN:DAYLIGHT
TZOFFSETFROM:-0800
TZOFFSETTO:-0700
TZNAME:PDT
DTSTART:20240310T100000
END:DAYLIGHT
BEGIN:STANDARD
TZOFFSETFROM:-0700
TZOFFSETTO:-0800
TZNAME:PST
DTSTART:20241103T090000
END:STANDARD
BEGIN:DAYLIGHT
TZOFFSETFROM:-0800
TZOFFSETTO:-0700
TZNAME:PDT
DTSTART:20250309T100000
END:DAYLIGHT
BEGIN:STANDARD
TZOFFSETFROM:-0700
TZOFFSETTO:-0800
TZNAME:PST
DTSTART:20251102T090000
END:STANDARD
END:VTIMEZONE
BEGIN:VEVENT
DTSTART;VALUE=DATE:20240220
DTEND;VALUE=DATE:20240221
DTSTAMP:20260422T083326
CREATED:20240122T210413Z
LAST-MODIFIED:20240126T235203Z
UID:10000493-1708387200-1708473599@garagekitchenbar.com
SUMMARY:Shout House – Closed for private event
DESCRIPTION:We are closed for a private event. Visit us next door at Garage Kitchen + Bar
URL:https://garagekitchenbar.com/event/shout-house-closed-for-private-event-3/
LOCATION:The Shout! House\, 655 4th Ave\, San Diego\, CA\, 92101\, United States
ATTACH;FMTTYPE=image/jpeg:https://garagekitchenbar.com/wp-content/uploads/2023/09/DSC_6991-iHmpjY.tmp_-2xsrrw.tmp_-UmxVNJ.tmp_.jpg
END:VEVENT
BEGIN:VEVENT
DTSTART;TZID=America/Los_Angeles:20240222T190000
DTEND;TZID=America/Los_Angeles:20240222T190000
DTSTAMP:20260422T083326
CREATED:20240222T233331Z
LAST-MODIFIED:20240222T233331Z
UID:10000513-1708628400-1708628400@garagekitchenbar.com
SUMMARY:Shout Entertainers: James\, Martha\, Tom
DESCRIPTION:Doors 7pm\, Pianos 8pm
URL:https://garagekitchenbar.com/event/shout-entertainers-james-martha-tom/
LOCATION:The Shout! House\, 655 4th Ave\, San Diego\, CA\, 92101\, United States
ATTACH;FMTTYPE=image/jpeg:https://garagekitchenbar.com/wp-content/uploads/2023/08/ShoutHouse-050-1-QcBec3.tmp_-sRow3O.tmp_-S2Z1y1.tmp_.jpg
END:VEVENT
BEGIN:VEVENT
DTSTART;TZID=America/Los_Angeles:20240223T190000
DTEND;TZID=America/Los_Angeles:20240223T190000
DTSTAMP:20260422T083326
CREATED:20240222T233331Z
LAST-MODIFIED:20240222T233331Z
UID:10000514-1708714800-1708714800@garagekitchenbar.com
SUMMARY:Shout Entertainers: Courtney\, Jon\, Eric\, Dave
DESCRIPTION:Doors 6pm\, Pianos 6:30pm
URL:https://garagekitchenbar.com/event/shout-entertainers-courtney-jon-eric-dave/
LOCATION:The Shout! House\, 655 4th Ave\, San Diego\, CA\, 92101\, United States
ATTACH;FMTTYPE=image/jpeg:https://garagekitchenbar.com/wp-content/uploads/2023/11/SH-Friday-Happy-Hour-7QD2Bh.tmp_.jpg
END:VEVENT
BEGIN:VEVENT
DTSTART;TZID=America/Los_Angeles:20240224T180000
DTEND;TZID=America/Los_Angeles:20240224T180000
DTSTAMP:20260422T083326
CREATED:20240222T233331Z
LAST-MODIFIED:20240222T233331Z
UID:10000515-1708797600-1708797600@garagekitchenbar.com
SUMMARY:Shout Entertainers: Martha\, Eric\, Jon\, Courtney\, James + Fiddle Players Melissa Barrison
DESCRIPTION:Doors 6pm\, Pianos 6:30pm. Guest Performance by fiddle player Melissa Barrison.
URL:https://garagekitchenbar.com/event/shout-entertainers-martha-eric-jon-courtney-james-fiddle-players-melissa-barrison/
LOCATION:The Shout! House\, 655 4th Ave\, San Diego\, CA\, 92101\, United States
ATTACH;FMTTYPE=image/jpeg:https://garagekitchenbar.com/wp-content/uploads/2024/02/SEA02821-scaled-WxbkJF.tmp_.jpg
END:VEVENT
END:VCALENDAR