BEGIN:VCALENDAR
VERSION:2.0
PRODID:-//Garage Kitchen + Bar | San Diego Bar - ECPv6.15.20//NONSGML v1.0//EN
CALSCALE:GREGORIAN
METHOD:PUBLISH
X-WR-CALNAME:Garage Kitchen + Bar | San Diego Bar
X-ORIGINAL-URL:https://garagekitchenbar.com
X-WR-CALDESC:Events for Garage Kitchen + Bar | San Diego Bar
REFRESH-INTERVAL;VALUE=DURATION:PT1H
X-Robots-Tag:noindex
X-PUBLISHED-TTL:PT1H
BEGIN:VTIMEZONE
TZID:America/Los_Angeles
BEGIN:DAYLIGHT
TZOFFSETFROM:-0800
TZOFFSETTO:-0700
TZNAME:PDT
DTSTART:20220313T100000
END:DAYLIGHT
BEGIN:STANDARD
TZOFFSETFROM:-0700
TZOFFSETTO:-0800
TZNAME:PST
DTSTART:20221106T090000
END:STANDARD
BEGIN:DAYLIGHT
TZOFFSETFROM:-0800
TZOFFSETTO:-0700
TZNAME:PDT
DTSTART:20230312T100000
END:DAYLIGHT
BEGIN:STANDARD
TZOFFSETFROM:-0700
TZOFFSETTO:-0800
TZNAME:PST
DTSTART:20231105T090000
END:STANDARD
BEGIN:DAYLIGHT
TZOFFSETFROM:-0800
TZOFFSETTO:-0700
TZNAME:PDT
DTSTART:20240310T100000
END:DAYLIGHT
BEGIN:STANDARD
TZOFFSETFROM:-0700
TZOFFSETTO:-0800
TZNAME:PST
DTSTART:20241103T090000
END:STANDARD
END:VTIMEZONE
BEGIN:VEVENT
DTSTART;TZID=America/Los_Angeles:20230808T183000
DTEND;TZID=America/Los_Angeles:20230808T203000
DTSTAMP:20260419T094927
CREATED:20230718T175733Z
LAST-MODIFIED:20230808T001557Z
UID:10000009-1691519400-1691526600@garagekitchenbar.com
SUMMARY:Garage  – TRIVIA
DESCRIPTION:TRIVIA – EVERY TUESDAY 6:30-8:30PM\n\nWelcome to Trivia Night at Garage Kitchen + Bar\, the perfect place to challenge your mind and enjoy a fun night out with friends! Join us every Tuesday from 6:30-8:30pm for a night of brain-teasing questions and prizes for top 3 teams. \nOur Trivia Night features a range of categories\, from pop culture to history\, sports to literature\, and everything in between. Our talented host will keep you entertained and engaged throughout the evening\, while you enjoy delicious food and drinks from our bar. \nGather your team of friends\, family or colleagues and compete for the top prize of the night. Don’t have a team? No problem! We’ll help you find the perfect group to join and make new friends along the way. \nAt Garage Kitchen + Bar\, we take pride in creating a welcoming and friendly atmosphere for our guests. Whether you’re a trivia buff or just looking for a fun night out\, our Trivia Night is the perfect way to unwind after a long day at work. \nTRIVIA SPECIALS:$6 Einstein Beer Stein – 34 Oz Pacifico$5 Pints – Rotating Handle$3 Tacos – Carene Asada or Carnitas \nWalk-ins Only. Table Reservations Not Accepted 
URL:https://garagekitchenbar.com/event/garage-trivia-4/
LOCATION:CA
ATTACH;FMTTYPE=image/webp:https://garagekitchenbar.com/wp-content/uploads/2023/07/MTkwNTgxMTM2MjY3NTUxODY5-FnoVHK.tmp_-hUeXwy.tmp_.webp
END:VEVENT
BEGIN:VEVENT
DTSTART;TZID=America/Los_Angeles:20230808T190000
DTEND;TZID=America/Los_Angeles:20230808T190000
DTSTAMP:20260419T094927
CREATED:20230808T001540Z
LAST-MODIFIED:20230808T001557Z
UID:10000031-1691521200-1691521200@garagekitchenbar.com
SUMMARY:Shout Entertainers: Tom\, Martha\, James
DESCRIPTION:Doors 7pm\, Pianos 8pm
URL:https://garagekitchenbar.com/event/shout-entertainers-tom-martha-james/
LOCATION:The Shout! House\, 655 4th Ave\, San Diego\, CA\, 92101\, United States
ATTACH;FMTTYPE=image/jpeg:https://garagekitchenbar.com/wp-content/uploads/2023/08/ShoutHouse-050-1-QcBec3.tmp_-sRow3O.tmp_-S2Z1y1.tmp_.jpg
END:VEVENT
BEGIN:VEVENT
DTSTART;TZID=America/Los_Angeles:20230809T190000
DTEND;TZID=America/Los_Angeles:20230809T190000
DTSTAMP:20260419T094927
CREATED:20230808T001541Z
LAST-MODIFIED:20230809T002633Z
UID:10000038-1691607600-1691607600@garagekitchenbar.com
SUMMARY:Shout Entertainers: Courtney\, Jeff\, Eric
DESCRIPTION:Doors 7pm\, Pianos 8pm
URL:https://garagekitchenbar.com/event/shout-entertainers-courtney-jeff-eric/
LOCATION:The Shout! House\, 655 4th Ave\, San Diego\, CA\, 92101\, United States
ATTACH;FMTTYPE=image/jpeg:https://garagekitchenbar.com/wp-content/uploads/2023/08/ShoutHouse-015-1-VShQpL.tmp_-v46SLi.tmp_-aCWAPW.tmp_.jpg
END:VEVENT
BEGIN:VEVENT
DTSTART;TZID=America/Los_Angeles:20230810T190000
DTEND;TZID=America/Los_Angeles:20230810T190000
DTSTAMP:20260419T094927
CREATED:20230808T001541Z
LAST-MODIFIED:20230810T002651Z
UID:10000003-1691694000-1691694000@garagekitchenbar.com
SUMMARY:Shout Entertainers: Jon\, Martha\, Dave
DESCRIPTION:Doors 7pm\, Pianos 8pm
URL:https://garagekitchenbar.com/event/shout-entertainers-jon-martha-dave/
LOCATION:CA
ATTACH;FMTTYPE=image/jpeg:https://garagekitchenbar.com/wp-content/uploads/2023/08/ShoutHouse-022-vsFi1T.tmp_-e44DPo.tmp_-arFu1l.tmp_.jpg
END:VEVENT
BEGIN:VEVENT
DTSTART;TZID=America/Los_Angeles:20230810T190000
DTEND;TZID=America/Los_Angeles:20230810T220000
DTSTAMP:20260419T094927
CREATED:20230808T001543Z
LAST-MODIFIED:20230810T002651Z
UID:10000004-1691694000-1691704800@garagekitchenbar.com
SUMMARY:Garage Loft – Live Music by Samer Bakri
DESCRIPTION:Join us for live Music in the garage Loft 7-10pm. \nSamer Bakri is a singer-songwriter who writes catchy tunes inspired by stories of love.
URL:https://garagekitchenbar.com/event/garage-loft-live-music-by-samer-bakri/
LOCATION:Garage Kitchen + Bar\, 655 4th Ave\, San Diego\, CA\, 921201\, United States
ATTACH;FMTTYPE=image/jpeg:https://garagekitchenbar.com/wp-content/uploads/2023/08/image_6487327-p2eRiU.tmp_.jpg
END:VEVENT
BEGIN:VEVENT
DTSTART;TZID=America/Los_Angeles:20230811T180000
DTEND;TZID=America/Los_Angeles:20230811T180000
DTSTAMP:20260419T094927
CREATED:20230808T001546Z
LAST-MODIFIED:20230811T002513Z
UID:10000005-1691776800-1691776800@garagekitchenbar.com
SUMMARY:Shout Entertainers: James\, Jeff\, Eric\, Courtney\, Dave
DESCRIPTION:Doors 6pm\, Pianos 6:30pm
URL:https://garagekitchenbar.com/event/shout-entertainers-james-jeff-eric-courtney-dave/
LOCATION:CA
ATTACH;FMTTYPE=image/jpeg:https://garagekitchenbar.com/wp-content/uploads/2023/08/ShoutHouse-060-SKTORR.tmp_-XmRlHv.tmp_-Cao2Ln.tmp_.jpg
END:VEVENT
BEGIN:VEVENT
DTSTART;TZID=America/Los_Angeles:20230811T190000
DTEND;TZID=America/Los_Angeles:20230811T190000
DTSTAMP:20260419T094927
CREATED:20230718T175733Z
LAST-MODIFIED:20230811T002513Z
UID:10000010-1691780400-1691780400@garagekitchenbar.com
SUMMARY:Garage Loft – Live Music by Ryan Blue and Shelbi Bennett
DESCRIPTION:LIVE MUSIC in the Garage Loft! – Every Friday & Saturday 7-10pm\n\nWelcome to Garage Kitchen + Bar\, where we bring you a dining and entertainment experience! Every Friday\, and Saturday from 7-10pm\, join us for Live Music featuring talented local musicians. \nSince 2001\, Ryan Blue has been floating around San Diego playing guitar and singing songs he wrote and songs he wishes he wrote. Ryan will be joined by his good friend Andrew Armerding\, who will play electric guitar alongside Ryan and also sing harmony. \n\nShelbi Bennett is an LA based singer and songwriter who grew up working as a performer\, session musician and vocal coach in San Diego. She fronted The Midnight Pine was in Baby Bushka  and still currently performs with The Havnauts.
URL:https://garagekitchenbar.com/event/garage-loft-live-music-2/
LOCATION:CA
ATTACH;FMTTYPE=image/jpeg:https://garagekitchenbar.com/wp-content/uploads/2023/08/IMG_9044-viWQjs.tmp_.jpg
END:VEVENT
BEGIN:VEVENT
DTSTART;TZID=America/Los_Angeles:20230812T180000
DTEND;TZID=America/Los_Angeles:20230812T180000
DTSTAMP:20260419T094927
CREATED:20230808T001549Z
LAST-MODIFIED:20230812T002543Z
UID:10000029-1691863200-1691863200@garagekitchenbar.com
SUMMARY:Shout Entertainers: Tom\, Martha\, Jon\, Eric\, James
DESCRIPTION:Doors 6pm\, Pianos 6:30pm
URL:https://garagekitchenbar.com/event/shout-entertainers-tom-martha-jon-eric-james/
LOCATION:The Shout! House\, 655 4th Ave\, San Diego\, CA\, 92101\, United States
ATTACH;FMTTYPE=image/jpeg:https://garagekitchenbar.com/wp-content/uploads/2023/08/ShoutHouse-058-dO5KJd.tmp_-uEA4iu.tmp_-PpEmvJ.tmp_.jpg
END:VEVENT
BEGIN:VEVENT
DTSTART;TZID=America/Los_Angeles:20230812T190000
DTEND;TZID=America/Los_Angeles:20230812T220000
DTSTAMP:20260419T094927
CREATED:20230718T175733Z
LAST-MODIFIED:20230812T002543Z
UID:10000032-1691866800-1691877600@garagekitchenbar.com
SUMMARY:Garage – Live Music
DESCRIPTION:LIVE MUSIC IN THE GARAGE LOFT! – EVERY FRIDAY & SATURDAY 7-10PM\n\n\nWelcome to Garage Kitchen + Bar\, where we bring you a dining and entertainment experience! Every Friday\, and Saturday from 7-10pm\, join us for Live Music featuring talented local musicians. \nSavor our delicious cuisine and sip on a refreshing drink while enjoying acoustic music and vibrant atmosphere that Adam brings to our stage. Our restaurant and bar provides the perfect setting to relax and unwind with friends and family while indulging in great food\, drinks\, and live music. \nAt Garage Kitchen + Bar\, we take pride in delivering exceptional customer service and creating memorable moments for our guests. Whether you’re celebrating a special occasion\, looking for a fun night out\, or just want to enjoy some good music and company\, we invite you to join us for Live Music at Garage Kitchen + Bar.
URL:https://garagekitchenbar.com/event/garage-live-music-2/
LOCATION:CA
ATTACH;FMTTYPE=image/jpeg:https://garagekitchenbar.com/wp-content/uploads/2023/07/istock-1056444080-CjKDzr.tmp_-d9Bt0I.tmp_.jpg
END:VEVENT
BEGIN:VEVENT
DTSTART;VALUE=DATE:20230813
DTEND;VALUE=DATE:20230815
DTSTAMP:20260419T094927
CREATED:20230718T175734Z
LAST-MODIFIED:20230813T002613Z
UID:10000006-1691884800-1692057599@garagekitchenbar.com
SUMMARY:The Shout! House – CLOSED FOR PRIVATE EVENT
DESCRIPTION:Garage Kitchen + Bar – OPEN
URL:https://garagekitchenbar.com/event/the-shout-house-closed-for-private-event/
LOCATION:The Shout! House\, 655 4th Ave\, San Diego\, CA\, 92101\, United States
ATTACH;FMTTYPE=image/jpeg:https://garagekitchenbar.com/wp-content/uploads/2023/07/DSC_6991-iHmpjY.tmp_.jpg
END:VEVENT
END:VCALENDAR