BEGIN:VCALENDAR
VERSION:2.0
PRODID:-//Garage Kitchen + Bar | San Diego Bar - ECPv6.15.20//NONSGML v1.0//EN
CALSCALE:GREGORIAN
METHOD:PUBLISH
X-WR-CALNAME:Garage Kitchen + Bar | San Diego Bar
X-ORIGINAL-URL:https://garagekitchenbar.com
X-WR-CALDESC:Events for Garage Kitchen + Bar | San Diego Bar
REFRESH-INTERVAL;VALUE=DURATION:PT1H
X-Robots-Tag:noindex
X-PUBLISHED-TTL:PT1H
BEGIN:VTIMEZONE
TZID:America/Los_Angeles
BEGIN:DAYLIGHT
TZOFFSETFROM:-0800
TZOFFSETTO:-0700
TZNAME:PDT
DTSTART:20220313T100000
END:DAYLIGHT
BEGIN:STANDARD
TZOFFSETFROM:-0700
TZOFFSETTO:-0800
TZNAME:PST
DTSTART:20221106T090000
END:STANDARD
BEGIN:DAYLIGHT
TZOFFSETFROM:-0800
TZOFFSETTO:-0700
TZNAME:PDT
DTSTART:20230312T100000
END:DAYLIGHT
BEGIN:STANDARD
TZOFFSETFROM:-0700
TZOFFSETTO:-0800
TZNAME:PST
DTSTART:20231105T090000
END:STANDARD
BEGIN:DAYLIGHT
TZOFFSETFROM:-0800
TZOFFSETTO:-0700
TZNAME:PDT
DTSTART:20240310T100000
END:DAYLIGHT
BEGIN:STANDARD
TZOFFSETFROM:-0700
TZOFFSETTO:-0800
TZNAME:PST
DTSTART:20241103T090000
END:STANDARD
END:VTIMEZONE
BEGIN:VEVENT
DTSTART;TZID=America/Los_Angeles:20230731T190000
DTEND;TZID=America/Los_Angeles:20230731T190000
DTSTAMP:20260419T183121
CREATED:20230718T175731Z
LAST-MODIFIED:20230731T181045Z
UID:10000011-1690830000-1690830000@garagekitchenbar.com
SUMMARY:Shout Entertainers: Eric\, James\, Courtney
DESCRIPTION:Doors 7pm\, Pianos 8pm
URL:https://garagekitchenbar.com/event/shout-entertainers-eric-james-courtney-2/
LOCATION:The Shout! House\, 655 4th Ave\, San Diego\, CA\, 92101\, United States
ATTACH;FMTTYPE=image/jpeg:https://garagekitchenbar.com/wp-content/uploads/2023/07/ShoutHouse-015-6yN08S.tmp_.jpg
END:VEVENT
BEGIN:VEVENT
DTSTART;TZID=America/Los_Angeles:20230801T183000
DTEND;TZID=America/Los_Angeles:20230801T203000
DTSTAMP:20260419T183121
CREATED:20230718T175731Z
LAST-MODIFIED:20230801T181113Z
UID:10000012-1690914600-1690921800@garagekitchenbar.com
SUMMARY:Garage  – TRIVIA
DESCRIPTION:TRIVIA – EVERY TUESDAY 6:30-8:30PM\n\nWelcome to Trivia Night at Garage Kitchen + Bar\, the perfect place to challenge your mind and enjoy a fun night out with friends! Join us every Tuesday from 6:30-8:30pm for a night of brain-teasing questions and prizes for top 3 teams. \nOur Trivia Night features a range of categories\, from pop culture to history\, sports to literature\, and everything in between. Our talented host will keep you entertained and engaged throughout the evening\, while you enjoy delicious food and drinks from our bar. \nGather your team of friends\, family or colleagues and compete for the top prize of the night. Don’t have a team? No problem! We’ll help you find the perfect group to join and make new friends along the way. \nAt Garage Kitchen + Bar\, we take pride in creating a welcoming and friendly atmosphere for our guests. Whether you’re a trivia buff or just looking for a fun night out\, our Trivia Night is the perfect way to unwind after a long day at work. \nTRIVIA SPECIALS:$6 Einstein Beer Stein – 34 Oz Pacifico$5 Pints – Rotating Handle$3 Tacos – Carene Asada or Carnitas \nWalk-ins Only. Table Reservations Not Accepted 
URL:https://garagekitchenbar.com/event/garage-trivia-3/
LOCATION:CA
ATTACH;FMTTYPE=image/webp:https://garagekitchenbar.com/wp-content/uploads/2023/07/MTkwNTgxMTM2MjY3NTUxODY5-FnoVHK.tmp_-hUeXwy.tmp_.webp
END:VEVENT
BEGIN:VEVENT
DTSTART;TZID=America/Los_Angeles:20230801T190000
DTEND;TZID=America/Los_Angeles:20230801T190000
DTSTAMP:20260419T183121
CREATED:20230718T175731Z
LAST-MODIFIED:20230801T181113Z
UID:10000013-1690916400-1690916400@garagekitchenbar.com
SUMMARY:Shout Entertainers: Eric\, Martha\, James
DESCRIPTION:Doors 7pm\, Pianos 8pm
URL:https://garagekitchenbar.com/event/shout-entertainers-eric-martha-james/
LOCATION:The Shout! House\, 655 4th Ave\, San Diego\, CA\, 92101\, United States
ATTACH;FMTTYPE=image/jpeg:https://garagekitchenbar.com/wp-content/uploads/2023/07/ShoutHouse-050-1-9HYFGU.tmp_.jpg
END:VEVENT
BEGIN:VEVENT
DTSTART;TZID=America/Los_Angeles:20230802T190000
DTEND;TZID=America/Los_Angeles:20230802T190000
DTSTAMP:20260419T183121
CREATED:20230718T175731Z
LAST-MODIFIED:20230802T182609Z
UID:10000014-1691002800-1691002800@garagekitchenbar.com
SUMMARY:Shout Entertainers: Jon Courtney\, Jeff
DESCRIPTION:Doors 7pm\, Pianos 8pm
URL:https://garagekitchenbar.com/event/shout-entertainers-jon-courtney-jeff/
LOCATION:The Shout! House\, 655 4th Ave\, San Diego\, CA\, 92101\, United States
ATTACH;FMTTYPE=image/jpeg:https://garagekitchenbar.com/wp-content/uploads/2023/07/ShoutHouse-022-vsFi1T.tmp_.jpg
END:VEVENT
BEGIN:VEVENT
DTSTART;TZID=America/Los_Angeles:20230803T190000
DTEND;TZID=America/Los_Angeles:20230803T190000
DTSTAMP:20260419T183121
CREATED:20230718T175732Z
LAST-MODIFIED:20230803T182513Z
UID:10000047-1691089200-1691089200@garagekitchenbar.com
SUMMARY:Shout Entertainers: Dave\, Martha\, Jeff
DESCRIPTION:Doors\, 7pm\, Pianos 8pm
URL:https://garagekitchenbar.com/event/shout-entertainers-dave-martha-jeff/
LOCATION:The Shout! House\, 655 4th Ave\, San Diego\, CA\, 92101\, United States
ATTACH;FMTTYPE=image/jpeg:https://garagekitchenbar.com/wp-content/uploads/2023/07/ShoutHouse-015-6yN08S.tmp_.jpg
END:VEVENT
BEGIN:VEVENT
DTSTART;TZID=America/Los_Angeles:20230804T180000
DTEND;TZID=America/Los_Angeles:20230804T180000
DTSTAMP:20260419T183121
CREATED:20230718T175732Z
LAST-MODIFIED:20230804T184012Z
UID:10000007-1691172000-1691172000@garagekitchenbar.com
SUMMARY:Shout Entertainers: James\, Martha\, Jon\, Courtney\, Dave
DESCRIPTION:Doors 6pm\, Pianos 6:30pm
URL:https://garagekitchenbar.com/event/shout-entertainers-james-martha-jon-courtney-dave/
LOCATION:The Shout! House\, 655 4th Ave\, San Diego\, CA\, 92101\, United States
ATTACH;FMTTYPE=image/jpeg:https://garagekitchenbar.com/wp-content/uploads/2023/07/ShoutHouse-028-y91Ma2.tmp_.jpg
END:VEVENT
BEGIN:VEVENT
DTSTART;TZID=America/Los_Angeles:20230804T190000
DTEND;TZID=America/Los_Angeles:20230804T220000
DTSTAMP:20260419T183121
CREATED:20230721T175514Z
LAST-MODIFIED:20230804T184012Z
UID:10000030-1691175600-1691186400@garagekitchenbar.com
SUMMARY:Garage Loft -Live Music By Conor James
DESCRIPTION:Conor James is a songwriter\, performer and producer originally from Boston\, MA. After spending six years in New York City studying and pursuing musical theater\, Conor recently made his way to Los Angeles to carve out his space in the competitive and vibrant pop music scene. Conor is a highly sought-after working musician in the L.A. area and maintains residencies at The Four Seasons in Beverly Hills and Novo Cafe in Westlake Village\, as well as a consistent performance schedule at several nightclubs and music venues.
URL:https://garagekitchenbar.com/event/garage-loft-live-music-by-conor-james/
LOCATION:The Shout! House\, 655 4th Ave\, San Diego\, CA\, 92101\, United States
ATTACH;FMTTYPE=image/jpeg:https://garagekitchenbar.com/wp-content/uploads/2023/07/image-2-scaled-v1fzzq.tmp_.jpg
END:VEVENT
BEGIN:VEVENT
DTSTART;TZID=America/Los_Angeles:20230805T190000
DTEND;TZID=America/Los_Angeles:20230805T220000
DTSTAMP:20260419T183121
CREATED:20230718T175733Z
LAST-MODIFIED:20230805T184025Z
UID:10000008-1691262000-1691272800@garagekitchenbar.com
SUMMARY:Garage – Live Music
DESCRIPTION:LIVE MUSIC IN THE GARAGE LOFT! – EVERY FRIDAY & SATURDAY 7-10PM\n\n\nWelcome to Garage Kitchen + Bar\, where we bring you a dining and entertainment experience! Every Friday\, and Saturday from 7-10pm\, join us for Live Music featuring talented local musicians. \nSavor our delicious cuisine and sip on a refreshing drink while enjoying acoustic music and vibrant atmosphere that Adam brings to our stage. Our restaurant and bar provides the perfect setting to relax and unwind with friends and family while indulging in great food\, drinks\, and live music. \nAt Garage Kitchen + Bar\, we take pride in delivering exceptional customer service and creating memorable moments for our guests. Whether you’re celebrating a special occasion\, looking for a fun night out\, or just want to enjoy some good music and company\, we invite you to join us for Live Music at Garage Kitchen + Bar.
URL:https://garagekitchenbar.com/event/garage-live-music/
LOCATION:CA
ATTACH;FMTTYPE=image/jpeg:https://garagekitchenbar.com/wp-content/uploads/2023/07/istock-1056444080-CjKDzr.tmp_-d9Bt0I.tmp_.jpg
END:VEVENT
END:VCALENDAR