BEGIN:VCALENDAR
VERSION:2.0
PRODID:-//Garage Kitchen + Bar | San Diego Bar - ECPv6.15.20//NONSGML v1.0//EN
CALSCALE:GREGORIAN
METHOD:PUBLISH
X-WR-CALNAME:Garage Kitchen + Bar | San Diego Bar
X-ORIGINAL-URL:https://garagekitchenbar.com
X-WR-CALDESC:Events for Garage Kitchen + Bar | San Diego Bar
REFRESH-INTERVAL;VALUE=DURATION:PT1H
X-Robots-Tag:noindex
X-PUBLISHED-TTL:PT1H
BEGIN:VTIMEZONE
TZID:America/Los_Angeles
BEGIN:DAYLIGHT
TZOFFSETFROM:-0800
TZOFFSETTO:-0700
TZNAME:PDT
DTSTART:20240310T100000
END:DAYLIGHT
BEGIN:STANDARD
TZOFFSETFROM:-0700
TZOFFSETTO:-0800
TZNAME:PST
DTSTART:20241103T090000
END:STANDARD
BEGIN:DAYLIGHT
TZOFFSETFROM:-0800
TZOFFSETTO:-0700
TZNAME:PDT
DTSTART:20250309T100000
END:DAYLIGHT
BEGIN:STANDARD
TZOFFSETFROM:-0700
TZOFFSETTO:-0800
TZNAME:PST
DTSTART:20251102T090000
END:STANDARD
BEGIN:DAYLIGHT
TZOFFSETFROM:-0800
TZOFFSETTO:-0700
TZNAME:PDT
DTSTART:20260308T100000
END:DAYLIGHT
BEGIN:STANDARD
TZOFFSETFROM:-0700
TZOFFSETTO:-0800
TZNAME:PST
DTSTART:20261101T090000
END:STANDARD
END:VTIMEZONE
BEGIN:VEVENT
DTSTART;TZID=America/Los_Angeles:20250904T110000
DTEND;TZID=America/Los_Angeles:20250904T110000
DTSTAMP:20260422T083926
CREATED:20250830T003638Z
LAST-MODIFIED:20250830T005026Z
UID:10001619-1756983600-1756983600@garagekitchenbar.com
SUMMARY:NFL Season Kick Off Watch Party
DESCRIPTION:🏈 Garage Kitchen + Bar – San Diego’s Official Minnesota Vikings Watch Bar\nWelcome to Garage Kitchen + Bar\, the ultimate game-day destination for Minnesota Vikings fans and all football fans in San Diego! Proudly recognized as the Official Vikings Watch Bar\, we’re the home base for SKOL Nation in Southern California. Join fellow fans every game day for wall-to-wall purple pride\, ice-cold drinks\, and unbeatable food specials. \n🍔 Food Specials\n\nPretzels (2) – $14 Served with Beer Cheese\nBeijing Style Wings – $17\nBuffalo Wings – $17\nLoaded Nachos – $17\n(Ground Beef\, Nacho Cheddar\, Pico\, House Salsa\, Guacamole\, Pickled Jalapeños\, Sour Cream\, Corn Tortilla Chips)\nApp Sampler Platter – $25\n(BBQ & Buffalo Chicken Tenders\, Mac n Cheese Bites\, Onion Rings\, Fries\, served with Blue Cheese\, Ranch & Spicy Ketchup)\nCrazy Bob’s Burger + Fries – $6\nAvailable 11am–12pm & 3–4pm\n\n🍻Drink Specials\n\n$5 Domestic Pints\n$10 Domestic Steins (34oz)\n$6 Wells\n$5 Vikings Blood Shots\n$25 Seltzer Buckets (5) – Long Drink\, Sun Cruiser\, White Claw\n\n🥂Bottomless Mimosas (Open–3pm)\n\nBASIC – $20/Guest (House Brut & OJ)\nBOUGIE – $34/Guest (Premium Brut + choice of Orange\, Pineapple\, Cranberry\, Guava\, or Grapefruit)\n(90 min limit | food purchase required | 20% auto-gratuity)\n\nHappy Hour (Daily 3–6pm)\n51% Off All Drinks & $3 Off All Apps \nTABLE RESERVATIONS
URL:https://garagekitchenbar.com/event/nfl-season-kick-off-watch-party/
LOCATION:Garage Kitchen + Bar\, 655 4th Ave\, San Diego\, CA\, 921201\, United States
ATTACH;FMTTYPE=image/jpeg:https://garagekitchenbar.com/wp-content/uploads/2025/08/Untitled-1.jpeg
END:VEVENT
BEGIN:VEVENT
DTSTART;TZID=America/Los_Angeles:20250904T190000
DTEND;TZID=America/Los_Angeles:20250904T190000
DTSTAMP:20260422T083926
CREATED:20250902T165522Z
LAST-MODIFIED:20250902T165522Z
UID:10001650-1757012400-1757012400@garagekitchenbar.com
SUMMARY:Dueling Pianos – Entertainers: James\, Jeff\, Dave
DESCRIPTION:Thursday Night – Doors 7pm | Pianos 8pm | 21+\nSHOUT ENTERTAINERS: James\, Jeff\, Dave \nTABLE RESERVATIONS\nReservations from 7:00pm – 7:45pm\, no reservations after 7:45pm. Reservation fee $5 per guest for guaranteed seating. Guests included in reservations are not charged cover upon arrival. \nWALK-INS\n1/2 Off cover for walk-ins who present their student or military I.D at the front desk. \nTABLE RESERVATIONS\nVIP PACKAGES \n\nWhen it comes to live music and unforgettable experiences in San Diego\, CA\, The Shout! House delivers excitement like no other. Our renowned dueling piano show features two talented performers at face-to-face grand pianos\, creating an electric atmosphere that keeps the party alive all night long. With a repertoire spanning from classic rock anthems to modern hits\, our show is fueled by your requests\, ensuring every performance is unique and interactive. Add staff dancing on stage\, audience participation\, comedy\, and sing-alongs\, and it’s clear why we are the go-to destination for live entertainment. \n\n\nEXPERIENCE UNMATCHED LIVE ENTERTAINMENT AT THE SHOUT! HOUSE \n\n\nLooking for a unique private event space? The Shout! House is the ideal choice for hosting memorable private parties. Whether it’s a celebration with friends\, a corporate event\, or a special occasion\, our venue offers the perfect combination of entertainment\, delicious food\, and fun drinks. Enjoy a lively and engaging atmosphere that leaves your guests raving about the experience. \n\n\nReserve your tables today to experience San Diego’s best live music venue. It’s time to Laugh\, Sing & Shout the night away—book now! \n\n 
URL:https://garagekitchenbar.com/event/dueling-pianos-entertainers-james-jeff-dave/
LOCATION:The Shout! House\, 655 4th Ave\, San Diego\, CA\, 92101\, United States
ATTACH;FMTTYPE=image/jpeg:https://garagekitchenbar.com/wp-content/uploads/2025/01/Untitled-3-r5KC5T.tmp_.jpg
END:VEVENT
END:VCALENDAR