BEGIN:VCALENDAR
VERSION:2.0
PRODID:-//Garage Kitchen + Bar | San Diego Bar - ECPv6.15.20//NONSGML v1.0//EN
CALSCALE:GREGORIAN
METHOD:PUBLISH
X-ORIGINAL-URL:https://garagekitchenbar.com
X-WR-CALDESC:Events for Garage Kitchen + Bar | San Diego Bar
REFRESH-INTERVAL;VALUE=DURATION:PT1H
X-Robots-Tag:noindex
X-PUBLISHED-TTL:PT1H
BEGIN:VTIMEZONE
TZID:America/Los_Angeles
BEGIN:DAYLIGHT
TZOFFSETFROM:-0800
TZOFFSETTO:-0700
TZNAME:PDT
DTSTART:20220313T100000
END:DAYLIGHT
BEGIN:STANDARD
TZOFFSETFROM:-0700
TZOFFSETTO:-0800
TZNAME:PST
DTSTART:20221106T090000
END:STANDARD
BEGIN:DAYLIGHT
TZOFFSETFROM:-0800
TZOFFSETTO:-0700
TZNAME:PDT
DTSTART:20230312T100000
END:DAYLIGHT
BEGIN:STANDARD
TZOFFSETFROM:-0700
TZOFFSETTO:-0800
TZNAME:PST
DTSTART:20231105T090000
END:STANDARD
BEGIN:DAYLIGHT
TZOFFSETFROM:-0800
TZOFFSETTO:-0700
TZNAME:PDT
DTSTART:20240310T100000
END:DAYLIGHT
BEGIN:STANDARD
TZOFFSETFROM:-0700
TZOFFSETTO:-0800
TZNAME:PST
DTSTART:20241103T090000
END:STANDARD
END:VTIMEZONE
BEGIN:VEVENT
DTSTART;VALUE=DATE:20231224
DTEND;VALUE=DATE:20231225
DTSTAMP:20260419T082112
CREATED:20231114T022557Z
LAST-MODIFIED:20231127T174802Z
UID:10000431-1703376000-1703462399@garagekitchenbar.com
SUMMARY:Christmas Eve – CLOSED
DESCRIPTION:The Shout! House will be CLOSED Christmas Eve
URL:https://garagekitchenbar.com/event/christmas-eve-closed/
LOCATION:The Shout! House\, 655 4th Ave\, San Diego\, CA\, 92101\, United States
ATTACH;FMTTYPE=image/jpeg:https://garagekitchenbar.com/wp-content/uploads/2023/11/merry-christmas-logo-design-template-3606c481e6f95de6ef5c6de6bcd76f86_screen-SoRJuA.tmp_.jpg
END:VEVENT
BEGIN:VEVENT
DTSTART;TZID=America/Los_Angeles:20231224T090000
DTEND;TZID=America/Los_Angeles:20231224T150000
DTSTAMP:20260419T082112
CREATED:20231127T174632Z
LAST-MODIFIED:20231211T230702Z
UID:10000442-1703408400-1703430000@garagekitchenbar.com
SUMMARY:Showing Vikings Game at 10am
DESCRIPTION:Garage Kitchen + bar will be open for brunch on Christmas Eve. Doors open at 9am\, join us for the Vikings game that start at 10am.
URL:https://garagekitchenbar.com/event/showing-vikings-game-at-10am/
LOCATION:The Shout! House\, 655 4th Ave\, San Diego\, CA\, 92101\, United States
ATTACH;FMTTYPE=image/jpeg:https://garagekitchenbar.com/wp-content/uploads/2023/11/Garage-Game-Poster-11X-17-bHgKBV.tmp_.jpg
END:VEVENT
END:VCALENDAR